BEGIN:VCALENDAR
VERSION:2.0
PRODID:-//*** U3A Moraira-Teulada *** - ECPv6.15.20//NONSGML v1.0//EN
CALSCALE:GREGORIAN
METHOD:PUBLISH
X-ORIGINAL-URL:https://local.u3amoraira-teulada.org
X-WR-CALDESC:Events for *** U3A Moraira-Teulada ***
REFRESH-INTERVAL;VALUE=DURATION:PT1H
X-Robots-Tag:noindex
X-PUBLISHED-TTL:PT1H
BEGIN:VTIMEZONE
TZID:Europe/Madrid
BEGIN:DAYLIGHT
TZOFFSETFROM:+0100
TZOFFSETTO:+0200
TZNAME:CEST
DTSTART:20240331T010000
END:DAYLIGHT
BEGIN:STANDARD
TZOFFSETFROM:+0200
TZOFFSETTO:+0100
TZNAME:CET
DTSTART:20241027T010000
END:STANDARD
BEGIN:DAYLIGHT
TZOFFSETFROM:+0100
TZOFFSETTO:+0200
TZNAME:CEST
DTSTART:20250330T010000
END:DAYLIGHT
BEGIN:STANDARD
TZOFFSETFROM:+0200
TZOFFSETTO:+0100
TZNAME:CET
DTSTART:20251026T010000
END:STANDARD
BEGIN:DAYLIGHT
TZOFFSETFROM:+0100
TZOFFSETTO:+0200
TZNAME:CEST
DTSTART:20260329T010000
END:DAYLIGHT
BEGIN:STANDARD
TZOFFSETFROM:+0200
TZOFFSETTO:+0100
TZNAME:CET
DTSTART:20261025T010000
END:STANDARD
END:VTIMEZONE
BEGIN:VEVENT
DTSTART;TZID=Europe/Madrid:20250204T100000
DTEND;TZID=Europe/Madrid:20250204T110000
DTSTAMP:20260420T182008
CREATED:20250102T144138Z
LAST-MODIFIED:20250102T144505Z
UID:38901-1738663200-1738666800@local.u3amoraira-teulada.org
SUMMARY:JAVEA - La Plana Roads\, paths and windmills
DESCRIPTION:Walk leaders: Jacqui & Andy \n\n\n\nMeeting PointAmanecer Restaurant on La Plana\, Carretera Cabo San Antonio\, 2\, 03730 Xàbia\, Alicante. GPS: 38°48’12.5″N \, 0°09’48.4″EWalking Route Distance : 4 kmsAround the roads and paths\, passing the windmills.Terrain Walking Surface Roads and paths. Path to the Windmills is quite rocky.Ascent Mostly flat. Modest hills.Directions to Meeting PointFrom Moraira:Take the road to Benitachell\, in the centre of the village turn right at the traffic lights and drive towards  Javea on the CV734. Continue on this road passing the golf course and then a garden centre\, both on the  right. Go straight across the next roundabout and over the narrow road bridge. At the next roundabout  turn right pass the Ferrobox store on your right and head towards Javea. On the next roundabout come  back on yourself past the Repsol petrol station on your right and after approximately 60 meters turn right into avenida Ondara. At the next roundabout go straight across and keep to the right. Travel up the slight  hill until you reach another roundabout\, take the second exit to Denia. After approximately 2km of a steep  and windy road turn right at the signpost which directs you to the lighthouse. The Amanecer restaurant  will come into view on your right after approximately 300 meters. From Javea: Take the CV7362 route over Mongo from Javea to Denia. Travel up the slight hill until you reach another  roundabout\, take the second exit to Denia. After approximately 2km of a steep and windy road turn right  at the signpost which directs you to the lighthouse. The Amanecer restaurant will come into view on your  right after approximately 300 meters.
URL:https://local.u3amoraira-teulada.org/event/javea-la-plana-roads-paths-and-windmills/
LOCATION:Amanecer Restaurant on La Plana\, Carretera Cabo San Antonio\, 2\, 03730 Xàbia\, Carretera Cabo San Antonio\, 2\, Xàbia\, Alicante\, 03730\, Spain
CATEGORIES:Healthy Walking
ATTACH;FMTTYPE=image/jpeg:https://local.u3amoraira-teulada.org/wp-content/uploads/HealthyWalkingGallery52.jpg
END:VEVENT
BEGIN:VEVENT
DTSTART;TZID=Europe/Madrid:20250206T100000
DTEND;TZID=Europe/Madrid:20250206T110000
DTSTAMP:20260420T182008
CREATED:20250102T144138Z
LAST-MODIFIED:20250102T144425Z
UID:38906-1738836000-1738839600@local.u3amoraira-teulada.org
SUMMARY:JAVEA - La Plana Roads\, paths and windmills (Thur)
DESCRIPTION:Walk leaders: Jacqui & Andy \n\n\n\nMeeting PointAmanecer Restaurant on La Plana\, Carretera Cabo San Antonio\, 2\, 03730 Xàbia\, Alicante. GPS: 38°48’12.5″N \, 0°09’48.4″EWalking Route Distance : 4 kmsAround the roads and paths\, passing the windmills.Terrain Walking Surface Roads and paths. Path to the Windmills is quite rocky.Ascent Mostly flat. Modest hills.Directions to Meeting PointFrom Moraira:Take the road to Benitachell\, in the centre of the village turn right at the traffic lights and drive towards  Javea on the CV734. Continue on this road passing the golf course and then a garden centre\, both on the  right. Go straight across the next roundabout and over the narrow road bridge. At the next roundabout  turn right pass the Ferrobox store on your right and head towards Javea. On the next roundabout come  back on yourself past the Repsol petrol station on your right and after approximately 60 meters turn right into avenida Ondara. At the next roundabout go straight across and keep to the right. Travel up the slight  hill until you reach another roundabout\, take the second exit to Denia. After approximately 2km of a steep  and windy road turn right at the signpost which directs you to the lighthouse. The Amanecer restaurant  will come into view on your right after approximately 300 meters. From Javea: Take the CV7362 route over Mongo from Javea to Denia. Travel up the slight hill until you reach another  roundabout\, take the second exit to Denia. After approximately 2km of a steep and windy road turn right  at the signpost which directs you to the lighthouse. The Amanecer restaurant will come into view on your  right after approximately 300 meters.
URL:https://local.u3amoraira-teulada.org/event/javea-la-plana-roads-paths-and-windmills-thur/
LOCATION:Amanecer Restaurant on La Plana\, Carretera Cabo San Antonio\, 2\, 03730 Xàbia\, Carretera Cabo San Antonio\, 2\, Xàbia\, Alicante\, 03730\, Spain
CATEGORIES:Healthy Walking
ATTACH;FMTTYPE=image/jpeg:https://local.u3amoraira-teulada.org/wp-content/uploads/HealthyWalkingGallery52.jpg
END:VEVENT
BEGIN:VEVENT
DTSTART;TZID=Europe/Madrid:20250210T103000
DTEND;TZID=Europe/Madrid:20250210T113000
DTSTAMP:20260420T182008
CREATED:20240410T190906Z
LAST-MODIFIED:20250117T135041Z
UID:38296-1739183400-1739187000@local.u3amoraira-teulada.org
SUMMARY:Serendipity
DESCRIPTION:Speaker: Alan Hunton \n\n\n\n\n\n\n\n\n\n\n\n\n\n\n\n\n\nSerendipity is a remarkable phenomenon which describes a most beneficial outcome achieved purely by chance. We will see that a significant number of scientific discoveries throughout history have been made by mistake; such that the intended result failed but the unintended consequence was so dramatic and useful to society that the researcher was then awarded a Nobel prize. \n\n\n\nA well-known example is that of the work of Alexander Fleming who had the foresight to realise that the mouldy formation that appeared in a petri dish that he had forgotten to clean could be useful. At the time he was not studying antibiotics but he understood there was potential and penicillin has since saved millions of lives. \n\n\n\nIn this talk we will look at ten different Eureka moments in history and we can ask the question\, do the people who made such discoveries deserve the recognition and reward given that they stumbled upon the outcomes?
URL:https://local.u3amoraira-teulada.org/event/serendipity-2/
LOCATION:Salón de Actos\, Espai La Senieta\, Ctra. Moraira a Calpe\, 8\, Moraira\, Alicante\, 03724\, Spain
CATEGORIES:Art & History
ATTACH;FMTTYPE=image/jpeg:https://local.u3amoraira-teulada.org/wp-content/uploads/eurika1.jpg
END:VEVENT
BEGIN:VEVENT
DTSTART;TZID=Europe/Madrid:20250210T173000
DTEND;TZID=Europe/Madrid:20250210T194500
DTSTAMP:20260420T182008
CREATED:20240929T164304Z
LAST-MODIFIED:20250107T155538Z
UID:39040-1739208600-1739216700@local.u3amoraira-teulada.org
SUMMARY:One Life
DESCRIPTION:5:00pm doors open\, for 5:30pm start (ends 7:45pm) \n\n\n\nU3A Membership Card for entrance (free) – NO booking required \n\n\n\nThe true story of Sir Nicholas ‘Nicky’ Winton\, a young London broker who\, in the months leading up to World War II\, rescued 669 predominantly Jewish children from the Nazis. Nicky visited Prague in December 1938 and found families who had fled the rise of the Nazis in Germany and Austria\, living indesperate conditions with little or no shelter and food\, and under threat of Nazi invasion. He immediately realized it was a race against time. How many children could he and the team rescue before the borders closed? Fifty years later\, it’s 1988 and Nicky lives haunted by the fate of the children he wasn’t able to bring to safety in England; always blaming himself for not doing more. It’s not until a live BBC television show\, ‘That’s Life’\, surprises him by introducing him to some surviving children – now adults – that he finally begins to come to terms with the guilt and grief he had carried for five decades.
URL:https://local.u3amoraira-teulada.org/event/one-life/
LOCATION:Salón de Actos\, Espai La Senieta\, Ctra. Moraira a Calpe\, 8\, Moraira\, Alicante\, 03724\, Spain
CATEGORIES:Film
ATTACH;FMTTYPE=image/webp:https://local.u3amoraira-teulada.org/wp-content/uploads/one-life.webp
ORGANIZER;CN="Ian Brown":MAILTO:group-film@u3amoraira-teulada.org
END:VEVENT
BEGIN:VEVENT
DTSTART;TZID=Europe/Madrid:20250211T100000
DTEND;TZID=Europe/Madrid:20250211T110000
DTSTAMP:20260420T182008
CREATED:20240105T105655Z
LAST-MODIFIED:20250109T172809Z
UID:36261-1739268000-1739271600@local.u3amoraira-teulada.org
SUMMARY:BENISSA – Cemetery SENIJA COUNTRY LANES
DESCRIPTION:Walk leaders: Mike & Valerie \n\n\n\nMeeting PointCarpark in front of the Benissa cemetery close to the A7 entrance gate.GPS: 38.730466 N\, 0.055388 E Use View Venue Website below for precise location.Walking RouteDistance: 4 kmAround the country lanes between Benissa and Senija\, through orchards of olives \, Almonds\, oranges and vineyards.TerrainWalking surfaceMostly well made surfaces (tarmac) road\, through the fields.Ascent30m ascent over 2kmDirections to Meeting PointComing from Teulada\, take the N332 towards Benissa. About 1km after the Benissa (Pedrera) trading estate take the slip road signposted for Benissa (Nort) and AP7. When you reach the roundabout take the first (almost immediate) exit for the cementeri.THE ROADWORKS IN THE FOLLOWING AREA ARE NOT COMPLETE SO THE DIRECTIONS MAY CHANGE:After about 200m turn left (signposted cementeri). Follow this road and turn left just after the communal bins area.Continue along this road until the next junction (with a traffic island)\, turn right and follow the signs to the cementeri\, turning right into the road “Assagador de Canor”. Park at the cementeri car park.
URL:https://local.u3amoraira-teulada.org/event/benissa-cemetary-senija-country-lanes/
LOCATION:Carpark in front of the Benissa cemetery\, Partida Canor\, 24\, 03720\, Alacant\, 03720
CATEGORIES:Healthy Walking
ATTACH;FMTTYPE=image/jpeg:https://local.u3amoraira-teulada.org/wp-content/uploads/Walking-senija-walk.jpg
END:VEVENT
BEGIN:VEVENT
DTSTART;TZID=Europe/Madrid:20250213T000000
DTEND;TZID=Europe/Madrid:20250213T235959
DTSTAMP:20260420T182008
CREATED:20241126T141432Z
LAST-MODIFIED:20250104T143604Z
UID:38684-1739404800-1739491199@local.u3amoraira-teulada.org
SUMMARY:Wine Group Day Trip to Bodegas Viña Elena - 13th February 2025
DESCRIPTION:For our first event of 2025\, we are planning a day trip to Bodegas Viña Elena in Jumilla on Thursday\, 13th February.  This bodega has been recommended to us by one of our members and it has also recently been featured in the magazine Viajar as one of the most outstanding wineries in the region of Murcia. \nFull details were sent to all Wine Group members on 26th November.   Based on 40 members participating in this trip\, the cost to current wine group members would be 62\,50€ per person (125€ per couple).  If we do not reach full capacity\, the remaining places will be offered to other Moraira-Teulada U3A members. \nWe are not taking payments at the moment but\, if you would like to book a place\, please email us  wine.tasting@u3amoraira-teulada.org \nWe will acknowledge your booking by email and will get in touch with you again early in the New Year regarding payment. \n**  This trip is now fully booked.  If you would like your name(s) to be added to the reserve list\, please get in touch.  The cost for non-members of the wine group is 65€ per person and the cost for members’ guests (i.e. non-Moraira-Teulada U3A members) is 67\,50€ per person. \nPat & Brian Clarke\, Wine Group Leaders
URL:https://local.u3amoraira-teulada.org/event/wine-group-day-trip-to-bodegas-vina-elena-13th-february-2025/
LOCATION:Alicante
CATEGORIES:Wine Tasting
ATTACH;FMTTYPE=image/jpeg:https://local.u3amoraira-teulada.org/wp-content/uploads/Vina-Elena.jpg
ORGANIZER;CN="Pat & Brian Clarke":MAILTO:wine.tasting@u3amoraira-teulada.org
END:VEVENT
BEGIN:VEVENT
DTSTART;TZID=Europe/Madrid:20250213T100000
DTEND;TZID=Europe/Madrid:20250213T110000
DTSTAMP:20260420T182008
CREATED:20240105T105655Z
LAST-MODIFIED:20250109T172847Z
UID:36404-1739440800-1739444400@local.u3amoraira-teulada.org
SUMMARY:BENISSA – Cemetery SENIJA COUNTRY LANES (Thu)
DESCRIPTION:Walk leaders: Mike & Valerie \n\n\n\nMeeting PointCarpark in front of the Benissa cemetery close to the A7 entrance gate.GPS: 38.730466 N\, 0.055388 E Use View Venue Website below for precise location.Walking RouteDistance: 4 kmAround the country lanes between Benissa and Senija\, through orchards of olives \, Almonds\, oranges and vineyards.TerrainWalking surfaceMostly well made surfaces (tarmac) road\, through the fields.Ascent30m ascent over 2kmDirections to Meeting PointComing from Teulada\, take the N332 towards Benissa. About 1km after the Benissa (Pedrera) trading estate take the slip road signposted for Benissa (Nort) and AP7. When you reach the roundabout take the first (almost immediate) exit for the cementeri.THE ROADWORKS IN THE FOLLOWING AREA ARE NOT COMPLETE SO THE DIRECTIONS MAY CHANGE:After about 200m turn left (signposted cementeri). Follow this road and turn left just after the communal bins area.Continue along this road until the next junction (with a traffic island)\, turn right and follow the signs to the cementeri\, turning right into the road “Assagador de Canor”. Park at the cementeri car park.
URL:https://local.u3amoraira-teulada.org/event/benissa-cemetary-senija-country-lanes-thu/
LOCATION:Carpark in front of the Benissa cemetery\, Partida Canor\, 24\, 03720\, Alacant\, 03720
CATEGORIES:Healthy Walking
ATTACH;FMTTYPE=image/jpeg:https://local.u3amoraira-teulada.org/wp-content/uploads/Walking-senija-walk.jpg
END:VEVENT
BEGIN:VEVENT
DTSTART;TZID=Europe/Madrid:20250218T100000
DTEND;TZID=Europe/Madrid:20250218T111000
DTSTAMP:20260420T182008
CREATED:20240111T140309Z
LAST-MODIFIED:20250125T175036Z
UID:36388-1739872800-1739877000@local.u3amoraira-teulada.org
SUMMARY:PARCENT – Country Walk
DESCRIPTION:Walk leaders: Alex & Elaine \n\n\n\nMeeting PointPark opposite the Tramonti Restaurant and not in their car park. GPS: 38° 44.652′ N 000° 04.114′ WWalking RouteDistance : 4\,8 kmAround the village and country lanes of Parcent\, through orchards of Almonds\, Olives \, Mandarins and Oranges and pine wood.TerrainWalking SurfaceMostly well made surfaces (tarmac\, concrete)\, some dirt road\, some trail through the pine wood.Ascent50m undulating\, a few steep streets in the village\, one short steep slope of 100m in the pine wood.Directions to Meeting PointComing from Teulada\, take the N332 towards Benissa. About 1km after the Benissa (Pedrera) trading estate stay on the new N332 Benissa bye-pass. After about 2km. take the slip road signposted for CV749 – Pinas and CV750 Xalo (Jalon). At the roundabout take the 1st exit to Xalo (Jalon) / Alcalali CV750. Drive through Jalon towards Alcalali and turn left at the junction in Alcalali\, towards Parcent. At the T junction as you enter Parcent turn left. Continue 100m and on the right side is the restaurant Tramonti. We can park here wIth the permission of the owner\, provided we have coffee there after the walk.
URL:https://local.u3amoraira-teulada.org/event/parcent-country-walk/
LOCATION:Restaurant Tramonti\, Carretera de Pego-Benidorm\, 16\, 03792 Parcent\, Alicante\, 03792\, Spain
CATEGORIES:Healthy Walking
ATTACH;FMTTYPE=image/jpeg:https://local.u3amoraira-teulada.org/wp-content/uploads/IMG-20220126-WA0000-r-1-scaled.jpg
END:VEVENT
BEGIN:VEVENT
DTSTART;TZID=Europe/Madrid:20250220T100000
DTEND;TZID=Europe/Madrid:20250220T111000
DTSTAMP:20260420T182008
CREATED:20240111T140309Z
LAST-MODIFIED:20250125T175133Z
UID:36394-1740045600-1740049800@local.u3amoraira-teulada.org
SUMMARY:PARCENT – Country Walk (Thu)
DESCRIPTION:Walk leaders: Alex & Elaine \n\n\n\nMeeting PointParcent\, Restaurant Tramonti. Carretera de Pego-Benidorm\, 16\, 03792 Parcent\, AlicantePark here in the parking of the restaurant. GPS: 38° 44.652′ N 000° 04.114′ WWalking RouteDistance : 4\,8 kmAround the village and country lanes of Parcent\, through orchards of Almonds\, Olives \, Mandarins and Oranges and pine wood.TerrainWalking SurfaceMostly well made surfaces (tarmac\, concrete)\, some dirt road\, some trail through the pine wood.Ascent50m undulating\, a few steep streets in the village\, one short steep slope of 100m in the pine wood.Directions to Meeting PointComing from Teulada\, take the N332 towards Benissa. About 1km after the Benissa (Pedrera) trading estate stay on the new N332 Benissa bye-pass. After about 2km. take the slip road signposted for CV749 – Pinas and CV750 Xalo (Jalon). At the roundabout take the 1st exit to Xalo (Jalon) / Alcalali CV750. Drive through Jalon towards Alcalali and turn left at the junction in Alcalali\, towards Parcent. At the T junction as you enter Parcent turn left. Continue 100m and on the right side is the restaurant Tramonti. We can park here wIth the permission of the owner\, provided we have coffee there after the walk.
URL:https://local.u3amoraira-teulada.org/event/parcent-country-walk-thu/
LOCATION:Restaurant Tramonti\, Carretera de Pego-Benidorm\, 16\, 03792 Parcent\, Alicante\, 03792\, Spain
CATEGORIES:Healthy Walking
ATTACH;FMTTYPE=image/jpeg:https://local.u3amoraira-teulada.org/wp-content/uploads/IMG-20220126-WA0000-r-1-scaled.jpg
END:VEVENT
BEGIN:VEVENT
DTSTART;TZID=Europe/Madrid:20250224T103000
DTEND;TZID=Europe/Madrid:20250224T113000
DTSTAMP:20260420T182008
CREATED:20250222T193642Z
LAST-MODIFIED:20250222T193644Z
UID:39291-1740393000-1740396600@local.u3amoraira-teulada.org
SUMMARY:Talk Cancelled
DESCRIPTION:
URL:https://local.u3amoraira-teulada.org/event/talk-cancelled/
LOCATION:Alicante
CATEGORIES:Art & History
ATTACH;FMTTYPE=image/png:https://local.u3amoraira-teulada.org/wp-content/uploads/CANCELLED-1.png
END:VEVENT
BEGIN:VEVENT
DTSTART;TZID=Europe/Madrid:20250224T173000
DTEND;TZID=Europe/Madrid:20250224T203000
DTSTAMP:20260420T182008
CREATED:20240929T164304Z
LAST-MODIFIED:20250107T153153Z
UID:39031-1740418200-1740429000@local.u3amoraira-teulada.org
SUMMARY:Australia
DESCRIPTION:5:00pm doors open\, for 5:30pm start (ends 8:30pm) \n\n\n\nU3A Membership Card for entrance (free) – NO booking required \n\n\n\nIn northern Australia at the beginning of World War II\, an English aristocrat inherits a cattle station the size of Maryland. When English cattle barons plot to take her land\, she reluctantly joins forces with a rough stock-man to drive 2\,000 head of cattle across hundreds of miles of the country’s most unforgiving land\, only to still face the bombing of Darwin by the Japanese forces that had attacked Pearl Harbour only months earlier. \n\n\n\n** PLEASE NOTE THE EARLIER THAN USUAL START TIME!
URL:https://local.u3amoraira-teulada.org/event/australia/
LOCATION:Salón de Actos\, Espai La Senieta\, Ctra. Moraira a Calpe\, 8\, Moraira\, Alicante\, 03724\, Spain
CATEGORIES:Film
ATTACH;FMTTYPE=image/webp:https://local.u3amoraira-teulada.org/wp-content/uploads/australia.webp
ORGANIZER;CN="Ian Brown":MAILTO:group-film@u3amoraira-teulada.org
END:VEVENT
BEGIN:VEVENT
DTSTART;TZID=Europe/Madrid:20250225T100000
DTEND;TZID=Europe/Madrid:20250225T111000
DTSTAMP:20260420T182008
CREATED:20240105T110456Z
LAST-MODIFIED:20250102T150001Z
UID:36265-1740477600-1740481800@local.u3amoraira-teulada.org
SUMMARY:JESUS POBRE - Marriot to the Woods west of Jesus Pobre
DESCRIPTION:Walk leaders: Jacqui & Andy \n\n\n\nMeeting PointMarriot Hotel\, car park next to driving range.GPS: 38°48’28.8″N 0°04’33.9″E Use View Venue Website below for precise location.Walking RouteDistance : 4\,1 kmCamis and tracks through the woods west of Jesus Pobre.TerrainWalking SurfaceTarmac minor roads\, dirt paths\, rough section through woods. (alternative easier route for some walkers).AscentMedium ascents and descents on tarmac. Short sections of rough ascents/descents in the woods.Directions to Meeting PointFrom Moraira: Take the road from to Benitachell . Turn right at the traffic lights and drive to Javea(CV740) to the Ferrobox roundabout(carretera gata crossing). Turn left here on the CV734 towards Gata;From Javea: Leave Jávea on the CV734 towards Gata.\,going straight on at the Ferrobox roundaboutAll: Turn right at the FOURTH roundabout onto the CV738 towards Jesus Pobre. Go through Jesus Pobre and at the “T” junction turn left. After 1 km turn left into the Marriot Hotel/golf complex. Continue straight down to the bottom of the road and turn left at the junction. Go past the back of the hotel on your left and then turn right alongside the driving range. Go to the end and park.
URL:https://local.u3amoraira-teulada.org/event/jesus-pobre-marriot-to-the-woods-west-of-jesus-pobre/
LOCATION:Marriott Hotel\, Partida Alquería Ferrando\, 6\, 03749 Dénia\, Alicante\, 03749\, Spain
CATEGORIES:Healthy Walking
ATTACH;FMTTYPE=image/png:https://local.u3amoraira-teulada.org/wp-content/uploads/Marriott-Hotel.png
END:VEVENT
BEGIN:VEVENT
DTSTART;TZID=Europe/Madrid:20250226T083000
DTEND;TZID=Europe/Madrid:20250226T183000
DTSTAMP:20260420T182008
CREATED:20250113T172017Z
LAST-MODIFIED:20250125T174547Z
UID:39082-1740558600-1740594600@local.u3amoraira-teulada.org
SUMMARY:Ikea & Murcia Shopping Centre – Wednesday\, 26th February 2025
DESCRIPTION:Ikea and Nueva Condomina Shopping areas are situated on either side of the E15 motorway\, leading to the city of Murcia. \n\n\n\nNote. This trip is now full. You can email eileen.brown@u3amoraira-teulada.org to be added to the waiting list. \n\n\n\nWe will depart Moraira at 8:30 and visit both areas by coach\, the Nueva Condomina in the morning and Ikea in the afternoon. You will also be given the option to remain at either of these outlets during the visit. \n\n\n\nThe Nueva Condomina is the perfect shopping experience containing many outlets such as C&A\, H&M\,  & Primark\, as well as a selection of restaurants and snack areas. On the outskirts of the Mall\, a short stroll away\, there are numerous other outlets e.g. Media Markt etc. \n\n\n\nWhether you are re-vamping your kitchen or searching for small decorative items\, then Ikea is the place to visit. You will also be able to recharge your batteries by visiting the Ikea restaurant. The restaurant is open all day long whether it be for a cup of coffee\, a satisfying salad or\, of course\, a plate of your favourite meatballs. \n\n\n\nIf you don’t wish to shop\, you can take the tram which runs approximately every 15 minutes from the Shopping Mall into the centre of Murcia city. Both shopping areas have something for everyone\, so enjoy the day out with your friends and the U3A. \n\n\n\nWe will arrive in Moraira at about 18:30h. \n\n\n\nComplete the form below to make your reservation. The U3A bank details will be provided to enable you to pay by bank transfer. Payments in cash will be accepted for completed booking forms before the General Meeting starts at 10:30 am on February 3rd.
URL:https://local.u3amoraira-teulada.org/event/ikea-murcia-shopping-centre-wednesday-26th-february-2025/
LOCATION:Alicante
CATEGORIES:Travel
ATTACH;FMTTYPE=image/jpeg:https://local.u3amoraira-teulada.org/wp-content/uploads/Ikea-1.jpg
ORGANIZER;CN="Eileen Brown":MAILTO:eileen.brown@u3amoraira-teulada.org
END:VEVENT
BEGIN:VEVENT
DTSTART;TZID=Europe/Madrid:20250227T100000
DTEND;TZID=Europe/Madrid:20250227T111000
DTSTAMP:20260420T182008
CREATED:20240105T110456Z
LAST-MODIFIED:20250102T150047Z
UID:36408-1740650400-1740654600@local.u3amoraira-teulada.org
SUMMARY:JESUS POBRE - Marriot to the Woods west of Jesus Pobre (Thu)
DESCRIPTION:Walk leaders: Jacqui & Andy \n\n\n\nMeeting PointMarriot Hotel\, car park next to driving range.GPS: 38°48’28.8″N 0°04’33.9″E Use View Venue Website below for precise location.Walking RouteDistance : 4\,1 kmCamis and tracks through the woods west of Jesus Pobre.TerrainWalking SurfaceTarmac minor roads\, dirt paths\, rough section through woods. (alternative easier route for some walkers).AscentMedium ascents and descents on tarmac. Short sections of rough ascents/descents in the woods.Directions to Meeting PointFrom Moraira: Take the road from to Benitachell . Turn right at the traffic lights and drive to Javea(CV740) to the Ferrobox roundabout(carretera gata crossing). Turn left here on the CV734 towards Gata;From Javea: Leave Jávea on the CV734 towards Gata.\,going straight on at the Ferrobox roundaboutAll: Turn right at the FOURTH roundabout onto the CV738 towards Jesus Pobre. Go through Jesus Pobre and at the “T” junction turn left. After 1 km turn left into the Marriot Hotel/golf complex. Continue straight down to the bottom of the road and turn left at the junction. Go past the back of the hotel on your left and then turn right alongside the driving range. Go to the end and park.
URL:https://local.u3amoraira-teulada.org/event/jesus-pobre-marriot-to-the-woods-west-of-jesus-pobre-thu/
LOCATION:Marriott Hotel\, Partida Alquería Ferrando\, 6\, 03749 Dénia\, Alicante\, 03749\, Spain
CATEGORIES:Healthy Walking
ATTACH;FMTTYPE=image/png:https://local.u3amoraira-teulada.org/wp-content/uploads/Marriott-Hotel.png
END:VEVENT
END:VCALENDAR