BEGIN:VCALENDAR
VERSION:2.0
PRODID:-//*** U3A Moraira-Teulada *** - ECPv6.15.20//NONSGML v1.0//EN
CALSCALE:GREGORIAN
METHOD:PUBLISH
X-ORIGINAL-URL:https://local.u3amoraira-teulada.org
X-WR-CALDESC:Events for *** U3A Moraira-Teulada ***
REFRESH-INTERVAL;VALUE=DURATION:PT1H
X-Robots-Tag:noindex
X-PUBLISHED-TTL:PT1H
BEGIN:VTIMEZONE
TZID:Europe/Madrid
BEGIN:DAYLIGHT
TZOFFSETFROM:+0100
TZOFFSETTO:+0200
TZNAME:CEST
DTSTART:20240331T010000
END:DAYLIGHT
BEGIN:STANDARD
TZOFFSETFROM:+0200
TZOFFSETTO:+0100
TZNAME:CET
DTSTART:20241027T010000
END:STANDARD
BEGIN:DAYLIGHT
TZOFFSETFROM:+0100
TZOFFSETTO:+0200
TZNAME:CEST
DTSTART:20250330T010000
END:DAYLIGHT
BEGIN:STANDARD
TZOFFSETFROM:+0200
TZOFFSETTO:+0100
TZNAME:CET
DTSTART:20251026T010000
END:STANDARD
BEGIN:DAYLIGHT
TZOFFSETFROM:+0100
TZOFFSETTO:+0200
TZNAME:CEST
DTSTART:20260329T010000
END:DAYLIGHT
BEGIN:STANDARD
TZOFFSETFROM:+0200
TZOFFSETTO:+0100
TZNAME:CET
DTSTART:20261025T010000
END:STANDARD
END:VTIMEZONE
BEGIN:VEVENT
DTSTART;TZID=Europe/Madrid:20250107T100000
DTEND;TZID=Europe/Madrid:20250107T111000
DTSTAMP:20260420T170609
CREATED:20240105T092920Z
LAST-MODIFIED:20250108T165144Z
UID:36237-1736244000-1736248200@local.u3amoraira-teulada.org
SUMMARY:JAVEA– La Plana Below the head of Montgo
DESCRIPTION:Walk Leaders: Alex & Elaine \n\n\n\nMeeting PointShooting Range car park above Javea\, Partida Cn-lg C Nao Gua\, 18\, 03730 Javea.GPS: 38°48’13.1″N 0°09’26.1″EWalking RouteDistance : 4\,1 kmAround the roads and paths on well–defined tracksTerrainWalking SurfaceMostly gravel tracksAscentNegligible apart from short uphill at the base of MontgoDirections to Meeting PointFrom Moraira:Take the road to Benitachell\, in the centre of the village turn right at the traffic lights and drive towards Javea on the CV734. Continue on this road passing the golf course and then a garden centre\, both on the right. Go straight across the next roundabout and over the narrow road bridge. At the next roundabout turn right pass the Ferrobox store on your right and head towards Javea. On the next roundabout come back on yourself past the Repsol petrol station on your right and after approximately 60 meters turn right into avenida Ondara. At the next roundabout go straight across and keep to the right. Travel up the slight hill until you reach another roundabout\, take the second exit to Denia. After approximately 2km of a steep and windy road go past the road on the right to Cabo San Antonio\, continuing for about 300 metres. On the right\, well marked\, is the parking for the shooting range.From Javea:Take the CV7362 route over Mongo from Javea to Denia. Travel up the slight hill until you reach another roundabout\, take the second exit to Denia. After approximately 2km of a steep and windy road go past the road on the right to Cabo San Antonio\, continuing for about 300 metres. On the right\, well marked\, is the parking for the shooting range.
URL:https://local.u3amoraira-teulada.org/event/javea-la-plana-below-the-head-of-montgo/
LOCATION:HW Shooting Range car park above Javea\, Partida Cn-lg C Nao Gua\, 18\, Javea\, Valencian Community\, 03730\, Spain
CATEGORIES:Healthy Walking
ATTACH;FMTTYPE=image/jpeg:https://local.u3amoraira-teulada.org/wp-content/uploads/La-Plana-Below-the-head-of-Montgo.jpg
END:VEVENT
BEGIN:VEVENT
DTSTART;TZID=Europe/Madrid:20250109T100000
DTEND;TZID=Europe/Madrid:20250109T111000
DTSTAMP:20260420T170609
CREATED:20240105T092920Z
LAST-MODIFIED:20250108T165237Z
UID:36244-1736416800-1736421000@local.u3amoraira-teulada.org
SUMMARY:JAVEA– La Plana below the head of Montgo - Thur
DESCRIPTION:Walk Leaders: Alex & Elaine \n\n\n\nMeeting PointShooting Range car park above Javea\, Partida Cn-lg C Nao Gua\, 18\, 03730 Javea.GPS: 38°48’13.1″N 0°09’26.1″EWalking RouteDistance : 4\,1 kmAround the roads and paths on well–defined tracksTerrainWalking SurfaceMostly gravel tracksAscentNegligible apart from short uphill at the base of MontgoDirections to Meeting PointFrom Moraira:Take the road to Benitachell\, in the centre of the village turn right at the traffic lights and drive towards Javea on the CV734. Continue on this road passing the golf course and then a garden centre\, both on the right. Go straight across the next roundabout and over the narrow road bridge. At the next roundabout turn right pass the Ferrobox store on your right and head towards Javea. On the next roundabout come back on yourself past the Repsol petrol station on your right and after approximately 60 meters turn right into avenida Ondara. At the next roundabout go straight across and keep to the right. Travel up the slight hill until you reach another roundabout\, take the second exit to Denia. After approximately 2km of a steep and windy road go past the road on the right to Cabo San Antonio\, continuing for about 300 metres. On the right\, well marked\, is the parking for the shooting range.From Javea:Take the CV7362 route over Mongo from Javea to Denia. Travel up the slight hill until you reach another roundabout\, take the second exit to Denia. After approximately 2km of a steep and windy road go past the road on the right to Cabo San Antonio\, continuing for about 300 metres. On the right\, well marked\, is the parking for the shooting range.
URL:https://local.u3amoraira-teulada.org/event/javea-la-plana-below-the-head-of-montgo-2/
LOCATION:HW Shooting Range car park above Javea\, Partida Cn-lg C Nao Gua\, 18\, Javea\, Valencian Community\, 03730\, Spain
CATEGORIES:Healthy Walking
ATTACH;FMTTYPE=image/jpeg:https://local.u3amoraira-teulada.org/wp-content/uploads/La-Plana-Below-the-head-of-Montgo.jpg
END:VEVENT
BEGIN:VEVENT
DTSTART;TZID=Europe/Madrid:20250113T103000
DTEND;TZID=Europe/Madrid:20250113T113000
DTSTAMP:20260420T170609
CREATED:20250107T144945Z
LAST-MODIFIED:20250107T144947Z
UID:39024-1736764200-1736767800@local.u3amoraira-teulada.org
SUMMARY:The History of Natural and Man - Made Glass
DESCRIPTION:Due to some problems with the A & H group loud speaker I have had to delay the scheduled talk on the History of the Automobile and replace it with The History of Natural and Man -Made Glass \n\n\n\nI first gave this talk eight years ago so\, hopefully\, new members will not have heard it and older members may have forgotten!! \n\n\n\nIt is very interesting and includes some surprises. \n\n\n\nJohn Hopwood
URL:https://local.u3amoraira-teulada.org/event/the-history-of-natural-and-man-made-glass/
LOCATION:Salón de Actos\, Espai La Senieta\, Ctra. Moraira a Calpe\, 8\, Moraira\, Alicante\, 03724\, Spain
CATEGORIES:Art & History
ATTACH;FMTTYPE=image/jpeg:https://local.u3amoraira-teulada.org/wp-content/uploads/glass1.jpg
END:VEVENT
BEGIN:VEVENT
DTSTART;TZID=Europe/Madrid:20250113T180000
DTEND;TZID=Europe/Madrid:20250113T200000
DTSTAMP:20260420T170609
CREATED:20240929T164304Z
LAST-MODIFIED:20240929T184208Z
UID:38342-1736791200-1736798400@local.u3amoraira-teulada.org
SUMMARY:The Old Oak
DESCRIPTION:5:30pm doors open\, for 6:00pm start (ends 7:55pm) \n\n\n\nU3A Membership Card for entrance (free) – NO booking required \n\n\n\nThe Old Oak is a special place. Not only is it the last pub standing\, but it’s also the only remaining public space where people can meet in a once thriving mining community that has now fallen on hard times after 30 years of decline. TJ Ballantyne\, the landlord\, hangs on to The Old Oak by his fingertips\, and his predicament is endangered even more when the pub becomes contested territory after the arrival of Syrian refugees who are placed in the village without any notice. In an unlikely friendship TJ meets a curious young Syrian woman named Yara\, who is always carrying a camera. Can they find a way for the two communities to understand each other? So unfolds a deeply moving drama about their fragilities and hopes.
URL:https://local.u3amoraira-teulada.org/event/the-old-oak/
LOCATION:Salón de Actos\, Espai La Senieta\, Ctra. Moraira a Calpe\, 8\, Moraira\, Alicante\, 03724\, Spain
CATEGORIES:Film
ATTACH;FMTTYPE=image/png:https://local.u3amoraira-teulada.org/wp-content/uploads/The_Old_Oak_2023_film_poster.png
ORGANIZER;CN="Ian Brown":MAILTO:group-film@u3amoraira-teulada.org
END:VEVENT
BEGIN:VEVENT
DTSTART;TZID=Europe/Madrid:20250114T100000
DTEND;TZID=Europe/Madrid:20250114T111000
DTSTAMP:20260420T170609
CREATED:20240105T103906Z
LAST-MODIFIED:20250102T140952Z
UID:36250-1736848800-1736853000@local.u3amoraira-teulada.org
SUMMARY:BENITACHELL – Cumbre Del Sol: Around the Granadella National Park
DESCRIPTION:Walk leaders: Alex & Elaine \n\n\n\nDurationFull: 1 hr 25. (6 kms) / Avoid Deep Gorge: 1 hr 10. (5.2 kms)Meeting PointCumbre Del Sol calle Dalias behind the Information Centre (Benitachell side).GPS: 38°43’43.2″N 0°09’47.5″E Use View Venue Website below for precise location.Walking RouteDistance : 5 kmfull 6 km / short 5\,2 kmTerrainWalking SurfaceSome rough gravel tracks. Major hills are concrete roads.AscentTwo major hills to descend and ascend.Directions to Meeting PointFrom Moraira:Turn right at Benitachell traffic lights. At the next traffic lights turn right up the hill to Cumbre.From Jávea:Go to Benitachell and turn left at traffic lights after Mas y Mas. Follow road up the long hill.After the sharp right hand bend at the top\, go down the hill\, past the information centre on the right\, U-turn and pass the other information centre and immediately turn sharp right into the side road behind the centre. Park here.
URL:https://local.u3amoraira-teulada.org/event/benitachell-cumbre-del-sol-around-the-granadella-national-park/
LOCATION:Cumbre Del Sol calle Dalias\, el Cim del Sol\, Alicante\, Gata de Gorgos\, Valencian Community\, 03726\, Spain
CATEGORIES:Healthy Walking
ATTACH;FMTTYPE=image/jpeg:https://local.u3amoraira-teulada.org/wp-content/uploads/HealthyWalkingGallery32.jpg
END:VEVENT
BEGIN:VEVENT
DTSTART;TZID=Europe/Madrid:20250116T100000
DTEND;TZID=Europe/Madrid:20250116T113000
DTSTAMP:20260420T170609
CREATED:20240105T103906Z
LAST-MODIFIED:20250102T164729Z
UID:36392-1737021600-1737027000@local.u3amoraira-teulada.org
SUMMARY:BENITACHELL – Cumbre Del Sol: Around the Granadella National Park (Thu)
DESCRIPTION:Walk leaders: Alex & Elaine \n\n\n\nDurationFull: 1 hr 25. (6 kms) / Avoid Deep Gorge: 1 hr 10. (5.2 kms)Meeting PointCumbre Del Sol calle Dalias behind the Information Centre (Benitachell side).GPS: 38°43’43.2″N 0°09’47.5″E Use View Venue Website below for precise location.Walking RouteDistance : 5 kmfull 6 km / short 5\,2 kmTerrainWalking SurfaceSome rough gravel tracks. Major hills are concrete roads.AscentTwo major hills to descend and ascend.Directions to Meeting PointFrom Moraira:Turn right at Benitachell traffic lights. At the next traffic lights turn right up the hill to Cumbre.From Jávea:Go to Benitachell and turn left at traffic lights after Mas y Mas. Follow road up the long hill.After the sharp right hand bend at the top\, go down the hill\, past the information centre on the right\, U-turn and pass the other information centre and immediately turn sharp right into the side road behind the centre. Park here.
URL:https://local.u3amoraira-teulada.org/event/benitachell-cumbre-del-sol-around-the-granadella-national-park-thu/
LOCATION:Cumbre Del Sol calle Dalias\, el Cim del Sol\, Alicante\, Gata de Gorgos\, Valencian Community\, 03726\, Spain
CATEGORIES:Healthy Walking
ATTACH;FMTTYPE=image/jpeg:https://local.u3amoraira-teulada.org/wp-content/uploads/HealthyWalkingGallery32.jpg
END:VEVENT
BEGIN:VEVENT
DTSTART;TZID=Europe/Madrid:20250121T100000
DTEND;TZID=Europe/Madrid:20250121T113000
DTSTAMP:20260420T170609
CREATED:20240105T110045Z
LAST-MODIFIED:20250119T194827Z
UID:39143-1737453600-1737459000@local.u3amoraira-teulada.org
SUMMARY:PARCENT - Northwest Loop
DESCRIPTION:Walk leaders: Mike & Valerie \n\n\n\nDurationFull: 1 hr 30 mins incl stops. (approx 4.8 kms). Short: 1 hr incl stops. (approx 4.2 kms).Meeting PointParcent\, Restaurant Tramonti. Carretera de Pego-Benidorm\,16\, 03792 Parcent\, AlicantePark Opposite the of the restaurant. GPS: 38° 44.652′ N 000° 04.114′ WUse View Venue Website below for precise location.Walking RouteDistance : 4\,8 kmVia the camis and tracks\, loop around the hills and plana to the north and west of Parcent. Back through the town of Parcent.TerrainWalking SurfaceMostly tarmac/concrete roads\, small section of gravel/dirt tracksAscentA number of modest hills\, and steep bends. One steep road up into the town. Total ascent 140m – 150m.Directions to Meeting PointComing from Teulada\, take the N332 towards Benissa. About 1km after the Benissa (Pedrera) trading estate stay on the new N332 Benissa bye-pass. After about 2km. take the slip road signposted for CV749 – Pinas and CV750 Xalo (Jalon). At the roundabout take the 1st exit to Xalo (Jalon) / Alcalali CV750. Drive through Jalon towards Alcalali and turn left at the junction in Alcalali\, towards Parcent. At the T junction as you enter Parcent turn left. Continue 100m and on the left side opposite the restaurant Tramonti there is  parking plot. We can park here.
URL:https://local.u3amoraira-teulada.org/event/parcent-northwest-loop-2/
LOCATION:Restaurant Tramonti\, Carretera de Pego-Benidorm\, 16\, 03792 Parcent\, Alicante\, 03792\, Spain
CATEGORIES:Healthy Walking
ATTACH;FMTTYPE=image/png:https://local.u3amoraira-teulada.org/wp-content/uploads/Rest-Tramonti.png
END:VEVENT
BEGIN:VEVENT
DTSTART;TZID=Europe/Madrid:20250122T080000
DTEND;TZID=Europe/Madrid:20250122T180000
DTSTAMP:20260420T170609
CREATED:20241201T172122Z
LAST-MODIFIED:20241201T181814Z
UID:38720-1737532800-1737568800@local.u3amoraira-teulada.org
SUMMARY:Alicante
DESCRIPTION:A day trip to Alicante  \n\n\n\n\n\n\n\n\n\nAlicante is a vibrant port city about an hour and a half from Moraira by coach. We will be dropped near the elevator which goes up to the Castle of Santa Barbara. The castle opens at 10.00 am\, entrance is free and the easiest access is via the elevator (free of charge for pensioners and those over 65). Guide books recommend about two hours for a visit.   \n\n\n\n\n\n\n\nIf you don’t want to visit the castle the Old Town is not too far away. There is a large Indoor Central Market in a beautiful Art Nouveau building with colourful tiles and stained glass windows. Its a great place for a coffee and a snack and is open from 7.00am until 14.30. \n\n\n\nAlicante is a wonderful place to explore on foot. The Old Town is a maze of narrow streets. The Cathedral of Sant Nicolau de Bari de Alacant (open 8.30 to 13.00) and the Basilica de Santa Maria d’Alacant (open 10.00 to 13.00) are in this area together with many interesting shops and restaurants and bars. \n\n\n\n\n\n\n\nAfter exploring the old town and having lunch you might find time to take a walk along the beautiful promenade before our coach picks us up once again at about 16.30
URL:https://local.u3amoraira-teulada.org/event/alicante/
LOCATION:Alicante
CATEGORIES:Travel
ATTACH;FMTTYPE=image/webp:https://local.u3amoraira-teulada.org/wp-content/uploads/Playa-del-Postiguet.jpg.webp
ORGANIZER;CN="Ian and Eileen Brown":MAILTO:travel-events@u3amoraira-teulada.org
END:VEVENT
BEGIN:VEVENT
DTSTART;TZID=Europe/Madrid:20250123T100000
DTEND;TZID=Europe/Madrid:20250123T113000
DTSTAMP:20260420T170609
CREATED:20240105T110045Z
LAST-MODIFIED:20250119T194727Z
UID:39141-1737626400-1737631800@local.u3amoraira-teulada.org
SUMMARY:PARCENT - Northwest Loop (Thur)
DESCRIPTION:Walk leaders: Mike & Valerie \n\n\n\nDurationFull: 1 hr 30 mins incl stops. (approx 4.8 kms). Short: 1 hr incl stops. (approx 4.2 kms).Meeting PointParcent\, Restaurant Tramonti. Carretera de Pego-Benidorm\,16\, 03792 Parcent\, AlicantePark Opposite the of the restaurant. GPS: 38° 44.652′ N 000° 04.114′ WUse View Venue Website below for precise location.Walking RouteDistance : 4\,8 kmVia the camis and tracks\, loop around the hills and plana to the north and west of Parcent. Back through the town of Parcent.TerrainWalking SurfaceMostly tarmac/concrete roads\, small section of gravel/dirt tracksAscentA number of modest hills\, and steep bends. One steep road up into the town. Total ascent 140m – 150m.Directions to Meeting PointComing from Teulada\, take the N332 towards Benissa. About 1km after the Benissa (Pedrera) trading estate stay on the new N332 Benissa bye-pass. After about 2km. take the slip road signposted for CV749 – Pinas and CV750 Xalo (Jalon). At the roundabout take the 1st exit to Xalo (Jalon) / Alcalali CV750. Drive through Jalon towards Alcalali and turn left at the junction in Alcalali\, towards Parcent. At the T junction as you enter Parcent turn left. Continue 100m and on the left side opposite the restaurant Tramonti there is  parking plot. We can park here.
URL:https://local.u3amoraira-teulada.org/event/parcent-northwest-loop-thur-2/
LOCATION:Restaurant Tramonti\, Carretera de Pego-Benidorm\, 16\, 03792 Parcent\, Alicante\, 03792\, Spain
CATEGORIES:Healthy Walking
ATTACH;FMTTYPE=image/png:https://local.u3amoraira-teulada.org/wp-content/uploads/Rest-Tramonti.png
END:VEVENT
BEGIN:VEVENT
DTSTART;TZID=Europe/Madrid:20250127T103000
DTEND;TZID=Europe/Madrid:20250127T113000
DTSTAMP:20260420T170609
CREATED:20241120T171929Z
LAST-MODIFIED:20250117T134959Z
UID:38602-1737973800-1737977400@local.u3amoraira-teulada.org
SUMMARY:EDWARD HOPPER and HIS MUSE: alienation and subjugation
DESCRIPTION:  \n\n\n\nSpeaker: Rosalind Miranda \n\n\n\nEdward Hopper\, the best-known American realist of the inter-war period\, painted the world as an alienating\, often vacuous place\, with everyone in his works appearing terribly alone. Many of his paintings are instantly recognisable.What is less known is that his wife of 43 years\, Josephine Nivison Hopper\, was famous as an artist before he was\, having her paintings exhibited alongside those of Modigliani\, Picasso\, and Man Ray\, and that it was she who started getting him exhibited.So\, are two artists who marry going to enjoy and build on each other’s successes? Come along and find out.
URL:https://local.u3amoraira-teulada.org/event/edward-hopper-and-his-muse-alienation-and-subjugation/
LOCATION:Alicante
CATEGORIES:Art & History
ATTACH;FMTTYPE=image/jpeg:https://local.u3amoraira-teulada.org/wp-content/uploads/EDWARD-HOPPER1.jpg
END:VEVENT
BEGIN:VEVENT
DTSTART;TZID=Europe/Madrid:20250127T180000
DTEND;TZID=Europe/Madrid:20250127T200000
DTSTAMP:20260420T170609
CREATED:20240929T164304Z
LAST-MODIFIED:20240929T174802Z
UID:38334-1738000800-1738008000@local.u3amoraira-teulada.org
SUMMARY:Slumdog Millionaire
DESCRIPTION:5:30pm doors open\, for 6:00pm start (ends 7:55pm) \n\n\n\nU3A Membership Card for entrance (free) – NO booking required \n\n\n\nThe story of Jamal Malik\, an 18 year-old orphan from the slums of Mumbai\, who is about to experience the biggest day of his life. With the whole nation watching\, he is just one question away from winning a staggering 20 million rupees on India’s Kaun Banega Crorepati? (2000) (Who Wants To Be A Millionaire?) But when the show breaks for the night\, police arrest him on suspicion of cheating; how could a street kid know so much? Desperate to prove his innocence\, Jamal tells the story of his life in the slum where he and his brother grew up\, of their adventures together on the road\, of vicious encounters with local gangs\, and of Latika\, the girl he loved and lost. Each chapter of his story reveals the key to the answer to one of the game show’s questions. Each chapter of Jamal’s increasingly layered story reveals where he learned the answers to the show’s seemingly impossible quizzes. But one question remains a mystery: what is this young man with no apparentdesire for riches really doing on the game show? When the new day dawns and Jamal returns to answer the final question\, the Inspector and sixty million viewers are about to find out. At the heart of its storytelling lies the question of how anyone comes to know the things they know about life and love.
URL:https://local.u3amoraira-teulada.org/event/slumdog-millionaire/
LOCATION:Salón de Actos\, Espai La Senieta\, Ctra. Moraira a Calpe\, 8\, Moraira\, Alicante\, 03724\, Spain
CATEGORIES:Film
ATTACH;FMTTYPE=image/jpeg:https://local.u3amoraira-teulada.org/wp-content/uploads/slumdog-millionaire.jpg
ORGANIZER;CN="Ian Brown":MAILTO:group-film@u3amoraira-teulada.org
END:VEVENT
BEGIN:VEVENT
DTSTART;TZID=Europe/Madrid:20250128T100000
DTEND;TZID=Europe/Madrid:20250128T111500
DTSTAMP:20260420T170609
CREATED:20240105T104424Z
LAST-MODIFIED:20250102T141828Z
UID:36257-1738058400-1738062900@local.u3amoraira-teulada.org
SUMMARY:JALON - The Jalon Loop
DESCRIPTION:Walk leaders: Mike & A Volunteer \n\n\n\nNext to the Information Centre opposite the Aleluya Bar in Jalon \, Av. del Rey Juan Carlos I\, 51\, 03727 Jalón\, Alicante. GPS: 38°44’37.3″N 0°01’01.2″W Use View Venue Website below for precise location.Distance : 4\,1 kmAround the valley of Val de PopWalking SurfaceAlmost flat and mainly tarmac roads with a short distance of gravel/dirt.AscentNilComing from Teulada\, take the N332 towards Benissa. About 1km after the Benissa (Pedrera) trading estate stay on the new N332 Benissa by-pass\, ignoring the signs to the AP7 and Benissa on the right. After about 2km take the first exit signposted for CV749 – Pinos and CV750 Xalo (Jalon). At the roundabout take the 1st exit to Xalo / (Jalon) / Alcalali CV750. Reaching Jalon turn right at the petrol station and then left at the roundabout and follow the main road around Jalon. At the next roundabout take the first exit and after 250 metres you reach the tourist office on the right\, opposite the Aleluya Bar and a car park. Park here. Meet the group in front of the tourist information centre.
URL:https://local.u3amoraira-teulada.org/event/jalon-the-jalon-loop/
LOCATION:Information Centre opposite the Aleluya Bar in Jalon\, Avinguda Rei Juan Carlos I\, 59-51\, 03727 Xaló\, Alacant\, Spain
CATEGORIES:Healthy Walking
ATTACH;FMTTYPE=image/jpeg:https://local.u3amoraira-teulada.org/wp-content/uploads/Jalon-Tourist-Info.jpg
END:VEVENT
BEGIN:VEVENT
DTSTART;TZID=Europe/Madrid:20250130T100000
DTEND;TZID=Europe/Madrid:20250130T111500
DTSTAMP:20260420T170609
CREATED:20240105T104424Z
LAST-MODIFIED:20250102T141956Z
UID:36398-1738231200-1738235700@local.u3amoraira-teulada.org
SUMMARY:JALON - The Jalon Loop (Thu)
DESCRIPTION:Walk leaders: Mike & A Volunteer \n\n\n\nNext to the Information Centre opposite the Aleluya Bar in Jalon \, Av. del Rey Juan Carlos I\, 51\, 03727 Jalón\, Alicante. GPS: 38°44’37.3″N 0°01’01.2″W Use View Venue Website below for precise location.Distance : 4\,1 kmAround the valley of Val de PopWalking SurfaceAlmost flat and mainly tarmac roads with a short distance of gravel/dirt.AscentNilComing from Teulada\, take the N332 towards Benissa. About 1km after the Benissa (Pedrera) trading estate stay on the new N332 Benissa by-pass\, ignoring the signs to the AP7 and Benissa on the right. After about 2km take the first exit signposted for CV749 – Pinos and CV750 Xalo (Jalon). At the roundabout take the 1st exit to Xalo / (Jalon) / Alcalali CV750. Reaching Jalon turn right at the petrol station and then left at the roundabout and follow the main road around Jalon. At the next roundabout take the first exit and after 250 metres you reach the tourist office on the right\, opposite the Aleluya Bar and a car park. Park here. Meet the group in front of the tourist information centre.
URL:https://local.u3amoraira-teulada.org/event/jalon-the-jalon-loop-thu/
LOCATION:Information Centre opposite the Aleluya Bar in Jalon\, Avinguda Rei Juan Carlos I\, 59-51\, 03727 Xaló\, Alacant\, Spain
CATEGORIES:Healthy Walking
ATTACH;FMTTYPE=image/jpeg:https://local.u3amoraira-teulada.org/wp-content/uploads/Jalon-Tourist-Info.jpg
END:VEVENT
END:VCALENDAR