BEGIN:VCALENDAR
VERSION:2.0
PRODID:-//*** U3A Moraira-Teulada *** - ECPv6.15.20//NONSGML v1.0//EN
CALSCALE:GREGORIAN
METHOD:PUBLISH
X-WR-CALNAME:*** U3A Moraira-Teulada ***
X-ORIGINAL-URL:https://local.u3amoraira-teulada.org
X-WR-CALDESC:Events for *** U3A Moraira-Teulada ***
REFRESH-INTERVAL;VALUE=DURATION:PT1H
X-Robots-Tag:noindex
X-PUBLISHED-TTL:PT1H
BEGIN:VTIMEZONE
TZID:Europe/Madrid
BEGIN:DAYLIGHT
TZOFFSETFROM:+0100
TZOFFSETTO:+0200
TZNAME:CEST
DTSTART:20230326T010000
END:DAYLIGHT
BEGIN:STANDARD
TZOFFSETFROM:+0200
TZOFFSETTO:+0100
TZNAME:CET
DTSTART:20231029T010000
END:STANDARD
BEGIN:DAYLIGHT
TZOFFSETFROM:+0100
TZOFFSETTO:+0200
TZNAME:CEST
DTSTART:20240331T010000
END:DAYLIGHT
BEGIN:STANDARD
TZOFFSETFROM:+0200
TZOFFSETTO:+0100
TZNAME:CET
DTSTART:20241027T010000
END:STANDARD
BEGIN:DAYLIGHT
TZOFFSETFROM:+0100
TZOFFSETTO:+0200
TZNAME:CEST
DTSTART:20250330T010000
END:DAYLIGHT
BEGIN:STANDARD
TZOFFSETFROM:+0200
TZOFFSETTO:+0100
TZNAME:CET
DTSTART:20251026T010000
END:STANDARD
END:VTIMEZONE
BEGIN:VEVENT
DTSTART;TZID=Europe/Madrid:20241010T170000
DTEND;TZID=Europe/Madrid:20241010T190000
DTSTAMP:20260420T123624
CREATED:20240725T074540Z
LAST-MODIFIED:20240922T111437Z
UID:37755-1728579600-1728586800@local.u3amoraira-teulada.org
SUMMARY:Wine Tasting
DESCRIPTION:The wines will be presented by the lovely Marta from Bodegas Bleda. The invitation was sent out to all our wine group members on Sunday\, 22nd September.
URL:https://local.u3amoraira-teulada.org/event/wine-tasting/
LOCATION:Hill Top Bar & Grill\, Calle Móstoles\, Moraira.\, Hill Top Carrer Móstoles\, 33\, 03724 Teulada\, Alicante\, Teulada\, alicante\, 03724\, Spain
CATEGORIES:Wine Tasting
ATTACH;FMTTYPE=image/jpeg:https://local.u3amoraira-teulada.org/wp-content/uploads/Wine-Header-1-600x375-1.jpg
ORGANIZER;CN="Pat & Brian Clarke":MAILTO:wine.tasting@u3amoraira-teulada.org
END:VEVENT
BEGIN:VEVENT
DTSTART;TZID=Europe/Madrid:20241014T103000
DTEND;TZID=Europe/Madrid:20241014T113000
DTSTAMP:20260420T123624
CREATED:20240920T080453Z
LAST-MODIFIED:20240920T080457Z
UID:38277-1728901800-1728905400@local.u3amoraira-teulada.org
SUMMARY:Meeting cancelled. In memorium - Peter Holley
DESCRIPTION:It is with great sadness that I have to inform members that Peter Holley\, who was due to give his very first talk to our Art & History Group on the 14th October\, sadly\, and very unexpectedly\, passed away on the 19th September. \n\n\n\nAs a mark of respect to the memory of a well-loved member of our Group there will not be a meeting on the 14th October. \n\n\n\nJohn Hopwood (Group Leader)
URL:https://local.u3amoraira-teulada.org/event/meeting-cancelled-in-memorium-peter-holley/
LOCATION:Alicante
CATEGORIES:Art & History
ATTACH;FMTTYPE=image/jpeg:https://local.u3amoraira-teulada.org/wp-content/uploads/Peter-Holley.jpg
END:VEVENT
BEGIN:VEVENT
DTSTART;TZID=Europe/Madrid:20241021T180000
DTEND;TZID=Europe/Madrid:20241021T203000
DTSTAMP:20260420T123624
CREATED:20240929T164304Z
LAST-MODIFIED:20241019T080731Z
UID:38487-1729533600-1729542600@local.u3amoraira-teulada.org
SUMMARY:Anatomy of a Fall
DESCRIPTION:5:30pm doors open\, for 6:00pm start (ends 8:30pm) \n\n\n\nU3A Membership Card for entrance (free) – NO booking required \n\n\n\nThe story begins when Samuel is found dead in the snow outside the isolated chalet where he lived with his wife Sandra\, a German writer\, and their partially-sighted 11-year-old son Daniel. An investigation leads to a conclusion of “suspicious death”: it’s impossible to know for sure whether hetook his own life or was killed. Sandra is indicted\, and we follow her trial which pulls the couple’s relationship apart. Daniel is caught in the middle: between the trial and their home life\, doubts take their toll on the mother-son relationship.
URL:https://local.u3amoraira-teulada.org/event/anatomy-of-a-fall-2/
LOCATION:Salón de Actos\, Espai La Senieta\, Ctra. Moraira a Calpe\, 8\, Moraira\, Alicante\, 03724\, Spain
CATEGORIES:Film
ATTACH;FMTTYPE=image/jpeg:https://local.u3amoraira-teulada.org/wp-content/uploads/Anatomy-of-a-Fall-portrait.jpg
ORGANIZER;CN="Ian Brown":MAILTO:group-film@u3amoraira-teulada.org
END:VEVENT
BEGIN:VEVENT
DTSTART;TZID=Europe/Madrid:20241023T080000
DTEND;TZID=Europe/Madrid:20241023T170000
DTSTAMP:20260420T123624
CREATED:20240531T203307Z
LAST-MODIFIED:20240531T203313Z
UID:37369-1729670400-1729702800@local.u3amoraira-teulada.org
SUMMARY:Valencia day trip
DESCRIPTION:Valencia is a great city to visit whether it be for shopping\, sightseeing or for cultural activities.On this day trip you will have the opportunity to choose what you would like to do for the day. \n\n\n\n\n\n\n\nSCIENCE AND ART MUSEUM — The complex is made up of the Hemisferico\, which is in the form of a human eye with a planetarium featuring the latest technical advances. The science museum includes a huge reproduction of a D.N.A chain. The museum houses a large public walkway and gardens built in white concrete.MARQUES DE DOS AQUAS — This monument features 2 figures having pitches at their feet from which water is poured out. This is a symbol of the 2 rivers of Valencia.  \n\n\n\n\n\n\n\nCATHEDRAL —- This beautiful Cathedral is situated in the main square in the centre of the city. It is built on the site of a mosque. \n\n\n\n\n\n\n\nTHE LONJA AND THE MARKET — The Lonja is a World Heritage site built originally for commercial purposes. It is surrounded by the central market considered the most beautiful in Europe. It displays and sells the produce from Valencia`s orchards and horticultural areas.  \n\n\n\nN.B. Reservations for this trip will not be taken until theJuly U3A general meeting.
URL:https://local.u3amoraira-teulada.org/event/valencia-day-trip/
LOCATION:Alicante
CATEGORIES:Travel
ATTACH;FMTTYPE=image/webp:https://local.u3amoraira-teulada.org/wp-content/uploads/valencia-cathedral.webp
END:VEVENT
BEGIN:VEVENT
DTSTART;TZID=Europe/Madrid:20241028T103000
DTEND;TZID=Europe/Madrid:20241028T113000
DTSTAMP:20260420T123624
CREATED:20240410T190906Z
LAST-MODIFIED:20240912T203410Z
UID:37093-1730111400-1730115000@local.u3amoraira-teulada.org
SUMMARY:Sister Queens
DESCRIPTION:Speaker: Keith Smith \n\n\n\nIn the late 15 th Century\, the Spanish Catholic Monarchs\, Isabel and Ferdinand\, used their children to create a complex web of alliances mainly to curtail the power of France.Two of their daughters\, Catalina and Juana\, became Queens\, but neither got to rule for long as they were deceived by the powerful male members of their families.This presentation outlines their lives and attempts to answer controversial questions that are still asked of them. \n\n\n\nJuana with her dead husband´s coffin
URL:https://local.u3amoraira-teulada.org/event/sister-queens/
LOCATION:Salón de Actos\, Espai La Senieta\, Ctra. Moraira a Calpe\, 8\, Moraira\, Alicante\, 03724\, Spain
CATEGORIES:Art & History
ATTACH;FMTTYPE=image/jpeg:https://local.u3amoraira-teulada.org/wp-content/uploads/sister-queens2.jpg
END:VEVENT
BEGIN:VEVENT
DTSTART;TZID=Europe/Madrid:20241028T180000
DTEND;TZID=Europe/Madrid:20241028T195000
DTSTAMP:20260420T123624
CREATED:20240929T164304Z
LAST-MODIFIED:20240929T185434Z
UID:38351-1730138400-1730145000@local.u3amoraira-teulada.org
SUMMARY:Working Girl
DESCRIPTION:5:30pm doors open\, for 6:00pm start (ends 7:50pm) \n\n\n\nU3A Membership Card for entrance (free) – NO booking required \n\n\n\nTess McGill is a frustrated secretary\, struggling to forge ahead in the world of big business in New York. She gets her chance when her boss breaks her leg on a skiing holiday. McGill takes advantage of her absence to push ahead with her career. She teams up with investment broker Jack Trainer to work on a big deal\, but the situation gets complicated after the return of her boss.
URL:https://local.u3amoraira-teulada.org/event/working-girl/
LOCATION:Salón de Actos\, Espai La Senieta\, Ctra. Moraira a Calpe\, 8\, Moraira\, Alicante\, 03724\, Spain
CATEGORIES:Film
ATTACH;FMTTYPE=image/png:https://local.u3amoraira-teulada.org/wp-content/uploads/Working-Girl.png
ORGANIZER;CN="Ian Brown":MAILTO:group-film@u3amoraira-teulada.org
END:VEVENT
END:VCALENDAR