BEGIN:VCALENDAR
VERSION:2.0
PRODID:-//*** U3A Moraira-Teulada *** - ECPv6.15.20//NONSGML v1.0//EN
CALSCALE:GREGORIAN
METHOD:PUBLISH
X-ORIGINAL-URL:https://local.u3amoraira-teulada.org
X-WR-CALDESC:Events for *** U3A Moraira-Teulada ***
REFRESH-INTERVAL;VALUE=DURATION:PT1H
X-Robots-Tag:noindex
X-PUBLISHED-TTL:PT1H
BEGIN:VTIMEZONE
TZID:Europe/Madrid
BEGIN:DAYLIGHT
TZOFFSETFROM:+0100
TZOFFSETTO:+0200
TZNAME:CEST
DTSTART:20240331T010000
END:DAYLIGHT
BEGIN:STANDARD
TZOFFSETFROM:+0200
TZOFFSETTO:+0100
TZNAME:CET
DTSTART:20241027T010000
END:STANDARD
BEGIN:DAYLIGHT
TZOFFSETFROM:+0100
TZOFFSETTO:+0200
TZNAME:CEST
DTSTART:20250330T010000
END:DAYLIGHT
BEGIN:STANDARD
TZOFFSETFROM:+0200
TZOFFSETTO:+0100
TZNAME:CET
DTSTART:20251026T010000
END:STANDARD
BEGIN:DAYLIGHT
TZOFFSETFROM:+0100
TZOFFSETTO:+0200
TZNAME:CEST
DTSTART:20260329T010000
END:DAYLIGHT
BEGIN:STANDARD
TZOFFSETFROM:+0200
TZOFFSETTO:+0100
TZNAME:CET
DTSTART:20261025T010000
END:STANDARD
END:VTIMEZONE
BEGIN:VEVENT
DTSTART;TZID=Europe/Madrid:20251013T103000
DTEND;TZID=Europe/Madrid:20251013T113000
DTSTAMP:20260422T180859
CREATED:20250719T082538Z
LAST-MODIFIED:20250720T114612Z
UID:40737-1760351400-1760355000@local.u3amoraira-teulada.org
SUMMARY:Naïve Art
DESCRIPTION:Speaker: Rosalind Miranda \n\n\n\nNaïve Art is usually is usually defined as art that is created by a person who lacks the formal education and training that a professional artist undergoes\, & is characterized by childlike simplicity & frankness of execution and vision. It is simple\, unaffected\, and unsophisticated. In the right hands\, however\, this does not make it any less appealing than the work of trained artists\, as you will see. Sometimes it even has extra appeal. It warms the heart and soothes the soul! \n\n\n\nIn this talk\, we’ll be looking at three artists\, one French\, one American\, & one British. Two of them didn’t start painting until their 40s\, one not until her late 70s. But today\, their works are being sold for millions.  \n\n\n\nSo\, come along\, perhaps to be inspired to take up painting or another craft in retirement. Who knows? You could be the next artistic sensation! \n\n\n\nNAÏVE ART  \n\n\n\nor \n\n\n\nLATE BLOOMERS \n\n\n\nor \n\n\n\nThere’s Hope for Us All
URL:https://local.u3amoraira-teulada.org/event/naive-art/
LOCATION:Salón de Actos\, Espai La Senieta\, Ctra. Moraira a Calpe\, 8\, Moraira\, Alicante\, 03724\, Spain
CATEGORIES:Art & History
ATTACH;FMTTYPE=image/png:https://local.u3amoraira-teulada.org/wp-content/uploads/Grandma-Moses.png
END:VEVENT
BEGIN:VEVENT
DTSTART;TZID=Europe/Madrid:20251027T103000
DTEND;TZID=Europe/Madrid:20251027T113000
DTSTAMP:20260422T180859
CREATED:20250111T110329Z
LAST-MODIFIED:20250117T135515Z
UID:39059-1761561000-1761564600@local.u3amoraira-teulada.org
SUMMARY:Hannibal: Rome's Greatest Enemy
DESCRIPTION:Speaker: Angela Chantry \n\n\n\nOver two thousand years ago one of the greatest military leaders in history almost destroyed Rome.Hannibal\, a daring African general from the city of Carthage\, led an army of warriors and battle elephants over the snowy Alps to invade the very heart of Rome’s growing empire. But what kind of person would dare to face the most relentless imperial power of the ancient world? How could Hannibal\, consistently outnumbered and always deep in enemy territory\, win battle after battle until he held the very fate of Rome within his grasp?Hannibal appeals to many as the ultimate underdog—a Carthaginian David against the Goliath of Rome—but it wasn’t just his genius on the battlefield that set him apart. As a boy and then a man\, his self-discipline and determination were legendary. As a military leader\, like Alexander the Great before him and Julius Caesar after\, he understood the hearts of men and had an uncanny ability to read the unseen weaknesses of his enemy. But Hannibal was much more than just a great general. He was a practiced statesman\, a skilled diplomat\, and a man deeply devoted to his family and country.
URL:https://local.u3amoraira-teulada.org/event/hannibal-romes-greatest-enemy/
LOCATION:Salón de Actos\, Espai La Senieta\, Ctra. Moraira a Calpe\, 8\, Moraira\, Alicante\, 03724\, Spain
CATEGORIES:Art & History
ATTACH;FMTTYPE=image/jpeg:https://local.u3amoraira-teulada.org/wp-content/uploads/Hannibal.jpg
END:VEVENT
END:VCALENDAR