BEGIN:VCALENDAR
VERSION:2.0
PRODID:-//*** U3A Moraira-Teulada *** - ECPv6.15.20//NONSGML v1.0//EN
CALSCALE:GREGORIAN
METHOD:PUBLISH
X-ORIGINAL-URL:https://local.u3amoraira-teulada.org
X-WR-CALDESC:Events for *** U3A Moraira-Teulada ***
REFRESH-INTERVAL;VALUE=DURATION:PT1H
X-Robots-Tag:noindex
X-PUBLISHED-TTL:PT1H
BEGIN:VTIMEZONE
TZID:Europe/Madrid
BEGIN:DAYLIGHT
TZOFFSETFROM:+0100
TZOFFSETTO:+0200
TZNAME:CEST
DTSTART:20240331T010000
END:DAYLIGHT
BEGIN:STANDARD
TZOFFSETFROM:+0200
TZOFFSETTO:+0100
TZNAME:CET
DTSTART:20241027T010000
END:STANDARD
BEGIN:DAYLIGHT
TZOFFSETFROM:+0100
TZOFFSETTO:+0200
TZNAME:CEST
DTSTART:20250330T010000
END:DAYLIGHT
BEGIN:STANDARD
TZOFFSETFROM:+0200
TZOFFSETTO:+0100
TZNAME:CET
DTSTART:20251026T010000
END:STANDARD
BEGIN:DAYLIGHT
TZOFFSETFROM:+0100
TZOFFSETTO:+0200
TZNAME:CEST
DTSTART:20260329T010000
END:DAYLIGHT
BEGIN:STANDARD
TZOFFSETFROM:+0200
TZOFFSETTO:+0100
TZNAME:CET
DTSTART:20261025T010000
END:STANDARD
END:VTIMEZONE
BEGIN:VEVENT
DTSTART;TZID=Europe/Madrid:20250609T103000
DTEND;TZID=Europe/Madrid:20250609T113000
DTSTAMP:20260422T233816
CREATED:20241130T120752Z
LAST-MODIFIED:20250117T135425Z
UID:38696-1749465000-1749468600@local.u3amoraira-teulada.org
SUMMARY:Elihu Yale and his Wicked Wife
DESCRIPTION:Speaker: David Ebsworth \n\n\n\nElihu Yale is a major figure in our history\, though now mostly forgotten. One of the first nabobs\, (a Muslim official or governor under the Mogul empire) Yale bequeathed his name to one of the world’s most famous universities. At the same time\, he left nothing to poor Catherine except the slur of branding her a “wicked wife.” But Catherine’s own background is fascinating – daughter to one of the Levant Company’s merchant adventurers who helped introduce Alicante wines to the world. Her husband’s reputation is tarnished\, however\, by his involvement\, through the East India Company\, in the Indian slave trade but the true story of Catherine and Elihu Yale is still “stranger than fiction” – as author of the Yale Trilogy\, David Ebsworth\, explains in this one-hour session.
URL:https://local.u3amoraira-teulada.org/event/elihu-yale-and-his-wicked-wife/
LOCATION:Salón de Actos\, Espai La Senieta\, Ctra. Moraira a Calpe\, 8\, Moraira\, Alicante\, 03724\, Spain
CATEGORIES:Art & History
ATTACH;FMTTYPE=image/jpeg:https://local.u3amoraira-teulada.org/wp-content/uploads/Elihu-Yale.jpg
END:VEVENT
BEGIN:VEVENT
DTSTART;TZID=Europe/Madrid:20250623T103000
DTEND;TZID=Europe/Madrid:20250623T113000
DTSTAMP:20260422T233816
CREATED:20250129T094509Z
LAST-MODIFIED:20250129T094547Z
UID:39156-1750674600-1750678200@local.u3amoraira-teulada.org
SUMMARY:Medieval Pleasures. Sex Drugs and Rock and Roll in the Middle Ages
DESCRIPTION:Speaker: Keith Smith \n\n\n\nWhen the word Medieval is mentioned\, one conjures up images of death\, disease and depravity. But what was life in the Middle Ages in Europe really like?What did people eat and drink?What leisure activities did they pursue?What were attitudes to sex? When could they have sex? When not? Who decided this? and what happened when the rules were broken?To find the answers to these questions and more\, and to find some common myths about the Middle Ages challenged\, come along to this whimsical presentation.  \n\n\n\n\n\n\n\n\n\n\n\n\n\nr
URL:https://local.u3amoraira-teulada.org/event/medieval-pleasures-sex-drugs-and-rock-and-roll-in-the-middle-ages/
LOCATION:Salón de Actos\, Espai La Senieta\, Ctra. Moraira a Calpe\, 8\, Moraira\, Alicante\, 03724\, Spain
CATEGORIES:Art & History
ATTACH;FMTTYPE=image/jpeg:https://local.u3amoraira-teulada.org/wp-content/uploads/Medieval-Pleasures.jpg
END:VEVENT
END:VCALENDAR