BEGIN:VCALENDAR
VERSION:2.0
PRODID:-//*** U3A Moraira-Teulada *** - ECPv6.15.20//NONSGML v1.0//EN
CALSCALE:GREGORIAN
METHOD:PUBLISH
X-WR-CALNAME:*** U3A Moraira-Teulada ***
X-ORIGINAL-URL:https://local.u3amoraira-teulada.org
X-WR-CALDESC:Events for *** U3A Moraira-Teulada ***
REFRESH-INTERVAL;VALUE=DURATION:PT1H
X-Robots-Tag:noindex
X-PUBLISHED-TTL:PT1H
BEGIN:VTIMEZONE
TZID:Europe/Madrid
BEGIN:DAYLIGHT
TZOFFSETFROM:+0100
TZOFFSETTO:+0200
TZNAME:CEST
DTSTART:20240331T010000
END:DAYLIGHT
BEGIN:STANDARD
TZOFFSETFROM:+0200
TZOFFSETTO:+0100
TZNAME:CET
DTSTART:20241027T010000
END:STANDARD
BEGIN:DAYLIGHT
TZOFFSETFROM:+0100
TZOFFSETTO:+0200
TZNAME:CEST
DTSTART:20250330T010000
END:DAYLIGHT
BEGIN:STANDARD
TZOFFSETFROM:+0200
TZOFFSETTO:+0100
TZNAME:CET
DTSTART:20251026T010000
END:STANDARD
BEGIN:DAYLIGHT
TZOFFSETFROM:+0100
TZOFFSETTO:+0200
TZNAME:CEST
DTSTART:20260329T010000
END:DAYLIGHT
BEGIN:STANDARD
TZOFFSETFROM:+0200
TZOFFSETTO:+0100
TZNAME:CET
DTSTART:20261025T010000
END:STANDARD
END:VTIMEZONE
BEGIN:VEVENT
DTSTART;TZID=Europe/Madrid:20250919T083000
DTEND;TZID=Europe/Madrid:20250921T203000
DTSTAMP:20260422T015156
CREATED:20250623T131635Z
LAST-MODIFIED:20250623T131723Z
UID:40667-1758270600-1758486600@local.u3amoraira-teulada.org
SUMMARY:The Cuenca Mountain Range Natural Park & the Parque de Fauna El Hosquillo
DESCRIPTION:This 3-day trip from Friday 19th to Sunday 21st September 2025 is organised by Angela Chantry\, U3A Javea\, Spanish Culture and Cuisine group and is open to U3A Moraira members to join. \n\n\n\nThe highlights of this trip include: \n\n\n\nCuenca\,    \n\n\n\n\n\n\n\nthe Enchanted City \n\n\n\n\n\n\n\nthe Parque de Fauna El Hosquillo \n\n\n\n\n\n\n\nincluding guided tours and accommodation in a 4* hotel. \n\n\n\nFor the full itinerary and details of how to book click on the link below. \n\n\n\n\nCuenca & Natural Parques Trip information
URL:https://local.u3amoraira-teulada.org/event/the-cuenca-mountain-range-natural-park-the-parque-de-fauna-el-hosquillo/
LOCATION:Alicante
CATEGORIES:Travel
ATTACH;FMTTYPE=image/png:https://local.u3amoraira-teulada.org/wp-content/uploads/featured-image-Cuenca-trip-1.png
END:VEVENT
END:VCALENDAR