BEGIN:VCALENDAR
VERSION:2.0
PRODID:-//*** U3A Moraira-Teulada *** - ECPv6.15.20//NONSGML v1.0//EN
CALSCALE:GREGORIAN
METHOD:PUBLISH
X-ORIGINAL-URL:https://local.u3amoraira-teulada.org
X-WR-CALDESC:Events for *** U3A Moraira-Teulada ***
REFRESH-INTERVAL;VALUE=DURATION:PT1H
X-Robots-Tag:noindex
X-PUBLISHED-TTL:PT1H
BEGIN:VTIMEZONE
TZID:Europe/Madrid
BEGIN:DAYLIGHT
TZOFFSETFROM:+0100
TZOFFSETTO:+0200
TZNAME:CEST
DTSTART:20240331T010000
END:DAYLIGHT
BEGIN:STANDARD
TZOFFSETFROM:+0200
TZOFFSETTO:+0100
TZNAME:CET
DTSTART:20241027T010000
END:STANDARD
BEGIN:DAYLIGHT
TZOFFSETFROM:+0100
TZOFFSETTO:+0200
TZNAME:CEST
DTSTART:20250330T010000
END:DAYLIGHT
BEGIN:STANDARD
TZOFFSETFROM:+0200
TZOFFSETTO:+0100
TZNAME:CET
DTSTART:20251026T010000
END:STANDARD
BEGIN:DAYLIGHT
TZOFFSETFROM:+0100
TZOFFSETTO:+0200
TZNAME:CEST
DTSTART:20260329T010000
END:DAYLIGHT
BEGIN:STANDARD
TZOFFSETFROM:+0200
TZOFFSETTO:+0100
TZNAME:CET
DTSTART:20261025T010000
END:STANDARD
END:VTIMEZONE
BEGIN:VEVENT
DTSTART;TZID=Europe/Madrid:20250605T090000
DTEND;TZID=Europe/Madrid:20250605T100000
DTSTAMP:20260421T021952
CREATED:20240109T151307Z
LAST-MODIFIED:20250102T164423Z
UID:36436-1749114000-1749117600@local.u3amoraira-teulada.org
SUMMARY:BENISSA – Pedrera Cami de La Torreta de Canor (Thu)
DESCRIPTION:Walk Leaders: Alex & Elaine \n\n\n\nMeeting PointPedrera industrial park\, Calle Benz. Park near “the large black building”.GPS: 38.729479\, 0.072268Use View Venue Website below for precise location.Walking RouteDistance : 3\,8 kmAround the country lanes of Canor and Torreta which are hidden in the valley between the N332 and AP7TerrainWalking SurfaceMostly well maintained tarmac surfaces with one wide gravel and stony track.Ascent300m moderately steep hillDirections to Meeting PointFrom Teulada take the N332 towards Benissa. Before reaching the new Benissa round-a-boud \,turn right into Pedrera industrial park. Immediately after entering the park turn left and drive up the slight incline. Take the right hand bend and follow the road up the hill and then take the first turning to the left\, at this point you should see “the large black building” on your left just as the road bends to the right. Parking is available on both sides of the road.
URL:https://local.u3amoraira-teulada.org/event/benissa-pedrera-cami-de-la-torreta-de-canor-thu/
LOCATION:Pedrera industrial park\, Calle Benz\, C. Benz\, 3A\, 03720 Benisa\, Alicante\, 03720\, Spain
CATEGORIES:Healthy Walking
ATTACH;FMTTYPE=image/jpeg:https://local.u3amoraira-teulada.org/wp-content/uploads/TEULADA-–-Camis-of-Canor-2.jpg
END:VEVENT
END:VCALENDAR