BEGIN:VCALENDAR
VERSION:2.0
PRODID:-//*** U3A Moraira-Teulada *** - ECPv6.15.20//NONSGML v1.0//EN
CALSCALE:GREGORIAN
METHOD:PUBLISH
X-WR-CALNAME:*** U3A Moraira-Teulada ***
X-ORIGINAL-URL:https://local.u3amoraira-teulada.org
X-WR-CALDESC:Events for *** U3A Moraira-Teulada ***
REFRESH-INTERVAL;VALUE=DURATION:PT1H
X-Robots-Tag:noindex
X-PUBLISHED-TTL:PT1H
BEGIN:VTIMEZONE
TZID:Europe/Madrid
BEGIN:DAYLIGHT
TZOFFSETFROM:+0100
TZOFFSETTO:+0200
TZNAME:CEST
DTSTART:20240331T010000
END:DAYLIGHT
BEGIN:STANDARD
TZOFFSETFROM:+0200
TZOFFSETTO:+0100
TZNAME:CET
DTSTART:20241027T010000
END:STANDARD
BEGIN:DAYLIGHT
TZOFFSETFROM:+0100
TZOFFSETTO:+0200
TZNAME:CEST
DTSTART:20250330T010000
END:DAYLIGHT
BEGIN:STANDARD
TZOFFSETFROM:+0200
TZOFFSETTO:+0100
TZNAME:CET
DTSTART:20251026T010000
END:STANDARD
BEGIN:DAYLIGHT
TZOFFSETFROM:+0100
TZOFFSETTO:+0200
TZNAME:CEST
DTSTART:20260329T010000
END:DAYLIGHT
BEGIN:STANDARD
TZOFFSETFROM:+0200
TZOFFSETTO:+0100
TZNAME:CET
DTSTART:20261025T010000
END:STANDARD
END:VTIMEZONE
BEGIN:VEVENT
DTSTART;TZID=Europe/Madrid:20250507T080000
DTEND;TZID=Europe/Madrid:20250518T170000
DTSTAMP:20260421T005839
CREATED:20240410T155855Z
LAST-MODIFIED:20250403T141002Z
UID:37024-1746604800-1747587600@local.u3amoraira-teulada.org
SUMMARY:River Cruise Paris to Amsterdam - May 2025
DESCRIPTION:THE RHINE & MOSELLE: CANALS\, VINEYARDS & CASTLES WITH 2 NIGHTS IN PARIS \n\n\n\n\n\n\n\n\n\n7th May 2025 \n\n\n\n10 Day River Cruise Paris to Amsterdam \n\n\n\nLeader: Coral Guise-Smith \n\n\n\nRiver Cruise Summary\n\n\n\nThe Avalon YourWay river cruise vacation begins with two nights in romantic Paris in the Paris Marriott Opéra Ambassador hotel or similar. See the legendary landmarks of the “City of Light\,” including Notre-Dame Cathedral\, the Eiffel Tower\, and the Louvre Museum with its elegant glass pyramid contrasting its ancient architecture. Take a city tour to see all the must-see sights! Take a high-speed train from Paris to Luxembourg City and board your Avalon Suite Ship® in Remich on the beautiful Moselle River. Enjoy a guided walk in the charming wine village of Bernkastel and taste some of the region’s best wines. Cruise the Moselle River to the picturesque town of Cochem where the Riesling grape is cultivated. Sail onto the Rhine River to the quintessential Rhine valley town of Rüdesheim. Here visit the marvelous Mechanical Musical Instruments Museum and enjoy a stroll through the town’s famous cobblestone Drosselgasse lined with shops\, restaurants\, and lively taverns. Cruise through the dramatic Rhine Gorge—the most beautiful stretch of the Rhine River where ancient castles stand on cliffs 400 feet above the water. On a guided walk\, see the famous twin-spired cathedral of Cologne\, and explore the cobblestone streets of the Old City.Visit Holland’s popular\, modern capital of Amsterdam\, and see this 700-year-old city from a unique perspective—on a canal cruise along the elegant Grachten. \n\n\n\n\n\n\n\nSHIP AMENITIES\n\n\n\n\nComplimentary Starlink Wi-Fi throughout the ship\n\n\n\nPanoramic windows throughout the ship\n\n\n\nElegant\, contemporary design & decor\n\n\n\nFriendly\, English-speaking crew & Cruise Director\n\n\n\nSky Deck with whirlpool\, shade awnings\, game area and premium lounges\n\n\n\nCovered Observation Lounge\n\n\n\nClub Lounge with 24-hour self-serve beverage station with complimentary cappuccinos\, lattes\, tea\, hot chocolate & premium coffees\, as well as treats throughout the day\n\n\n\nElevator\n\n\n\nNon-smoking interior and staterooms\n\n\n\nFitness & Wellness\n\n\n\n\nIncluded\n\n\n\nExcursions are included for the stops in Paris\, Remich/Luxembourg\, Bernkastel\, Cochem\, Rudesheim\, Cologne and Amsterdam. There is no obligation to participate in the day-by-day itinerary. Also  there are usually three different ‘’walking’’ paced groups for the included excursions. There is a leisurely pace\, moderate and then a more active pace. Guests are free to choose which would be more suitable for them.• For any hotel stays\, this is on a bed and breakfast basis.• Full board on the ship includes: Breakfast\, Lunch and Dinner. Wine/ beer and soft drinks is served with lunch and dinner. Tea and coffee is available throughout the day and any other beverages can be purchased at the bar/• HAPPY HOUR – we have an included ‘’happy hour’’ which is pre dinner and usually during the Cruise Directors update/talk in the evening. This includes free wine\, beer\, spirits\, soft drinks and x1 free cocktail.• All gratuities are included. \n\n\n\nPrices \n\n\n\nCategory D – Deluxe Stateroom – Twin: £3762 per person \n\n\n\nCategory B – Panorama Suite – Twin: £4961 per person \n\n\n\nCategory A – Panorama Suite – Twin: £5111 per person \n\n\n\nCategory P – Panorama Suite – Twin: £5161 per person \n\n\n\nThe above pricing is based on cruise only.. \n\n\n\nIt is too early to confirm flight prices. I believe Paris will be under €100and return from Amsterdam around the same. Return coach from Alicante around €15 per head. \n\n\n\nAs we are not bound by Avalon booking our flights there is the possibility to extend our/your stay in Paris and Amsterdam if you wish. Please confirm if this is something you would be interested in.
URL:https://local.u3amoraira-teulada.org/event/river-cruise-paris-to-amsterdam-may-2025/
LOCATION:Alicante
CATEGORIES:Travel
ATTACH;FMTTYPE=image/jpeg:https://local.u3amoraira-teulada.org/wp-content/uploads/Avalon-Imagery-II.jpg
ORGANIZER;CN="Coral Guise-Smith":MAILTO:coral.guise-smith@u3amoraira-teulada.org
END:VEVENT
BEGIN:VEVENT
DTSTART;TZID=Europe/Madrid:20250508T100000
DTEND;TZID=Europe/Madrid:20250508T110000
DTSTAMP:20260421T005839
CREATED:20240109T144240Z
LAST-MODIFIED:20250503T174540Z
UID:36428-1746698400-1746702000@local.u3amoraira-teulada.org
SUMMARY:JAVEA - Cansaladas Las Laderas urb. and woods -1 (Thu)
DESCRIPTION:Walk Leaders: Jacqui & Andy \n\n\n\nMeeting PointCami Lago Como of cami de les Cansaladas CV-747 before El Campo Restaurant\, left in Cami Lago Como near Mailboxes of Las Laderas urb. GPS: 38°45’00.4″N 0°10’08.3″EUse View Venue Website below for precise location.Walking RouteDistance : 4 kmThrough Las Laderas urbanisation into the woods and around the rear of the Jávea Golf club.TerrainWalking SurfaceMostly roads but there are some tracks and paths.AscentMostly flat but starts with a modest climb. Also one long gentle incline later in walk.Directions to Meeting PointFrom Moraira: Drive through Benitachell towards Javea. Pass the football field on the right and take the first road to the right CV-747 towards Javea arenal. Pass the roundabout\, go straight and follow the road until it bends to the right. At this point turn left into Lago Como and park near the mail boxes. From Jávea: At Barclays Bank\, take the road towards Benitachell up the hill. 600 metres after passing the Inn on the Green bowls club\, the road bends left at the old El Campo restaurant. There are two roads on the right hand side as the road bends left. Take the second of these two roads; do not take the road immediately alongside the restaurant. Parking near the mailboxes.
URL:https://local.u3amoraira-teulada.org/event/javea-cansaladas-las-laderas-urb-and-woods-1-thu/
LOCATION:Lago Como\, 7-1\, JAVEA – Cansaladas\, C. Lago Como\, 7-1\, 03739 Xàbia\, Alicante\, 03739\, Spain
CATEGORIES:Healthy Walking
ATTACH;FMTTYPE=image/jpeg:https://local.u3amoraira-teulada.org/wp-content/uploads/cansaladas-las-laderas-urb-and-woods1.jpg
END:VEVENT
END:VCALENDAR