BEGIN:VCALENDAR
VERSION:2.0
PRODID:-//*** U3A Moraira-Teulada *** - ECPv6.15.20//NONSGML v1.0//EN
CALSCALE:GREGORIAN
METHOD:PUBLISH
X-WR-CALNAME:*** U3A Moraira-Teulada ***
X-ORIGINAL-URL:https://local.u3amoraira-teulada.org
X-WR-CALDESC:Events for *** U3A Moraira-Teulada ***
REFRESH-INTERVAL;VALUE=DURATION:PT1H
X-Robots-Tag:noindex
X-PUBLISHED-TTL:PT1H
BEGIN:VTIMEZONE
TZID:Europe/Madrid
BEGIN:DAYLIGHT
TZOFFSETFROM:+0100
TZOFFSETTO:+0200
TZNAME:CEST
DTSTART:20240331T010000
END:DAYLIGHT
BEGIN:STANDARD
TZOFFSETFROM:+0200
TZOFFSETTO:+0100
TZNAME:CET
DTSTART:20241027T010000
END:STANDARD
BEGIN:DAYLIGHT
TZOFFSETFROM:+0100
TZOFFSETTO:+0200
TZNAME:CEST
DTSTART:20250330T010000
END:DAYLIGHT
BEGIN:STANDARD
TZOFFSETFROM:+0200
TZOFFSETTO:+0100
TZNAME:CET
DTSTART:20251026T010000
END:STANDARD
BEGIN:DAYLIGHT
TZOFFSETFROM:+0100
TZOFFSETTO:+0200
TZNAME:CEST
DTSTART:20260329T010000
END:DAYLIGHT
BEGIN:STANDARD
TZOFFSETFROM:+0200
TZOFFSETTO:+0100
TZNAME:CET
DTSTART:20261025T010000
END:STANDARD
END:VTIMEZONE
BEGIN:VEVENT
DTSTART;TZID=Europe/Madrid:20250501T100000
DTEND;TZID=Europe/Madrid:20250501T111500
DTSTAMP:20260420T233226
CREATED:20240105T121435Z
LAST-MODIFIED:20250102T161254Z
UID:36426-1746093600-1746098100@local.u3amoraira-teulada.org
SUMMARY:TEULADA BERDICA Railway walk (Thu)
DESCRIPTION:Walk leaders: Mike & Valerie \n\n\n\nMeeting PointCar Park Teulada poligono in front of ecopark entrance.GPS: 38°43’43.1″N 0°05’36.4″EWalking RouteDistance : 4\,5 kmAround tracks and paths in countryside of Teulada-Benissa Berdica areaTerrainWalking SurfaceRoads and tracks\, part muddy and uneven if wet. Some trail through the fields.Ascent60m ascent over 2 medium steep size hillsDirections to Meeting PointFrom Teulada-Moraira:Drive to the bottom of the main dual carriageway. At the first roundabout you take the SECOND exit (the first one takes you back into Teulada or the railway station)\, and it is at the next roundabout you take the FIRST exit and under the railway. At the next roundabout\, turn left\, then sharp right into the car park (watch out for cars leaving the car park!).From Gata/Benissa:Take N332 until you reach the roundabout outside Teulada. Turn to Teulada and at the next roundabout\, turn right\, then sharp right into the car park (watch out for cars leaving the car park!). Park close-by in front of the ecopark entrance.
URL:https://local.u3amoraira-teulada.org/event/teulada-berdica-railway-walk-thu/
LOCATION:Teulada Poligono car park\, Moraira\, 03725\, Alicante\, 03725\, Spain
CATEGORIES:Healthy Walking
ATTACH;FMTTYPE=image/jpeg:https://local.u3amoraira-teulada.org/wp-content/uploads/Teulada-Berdica1-scaled.jpg
END:VEVENT
END:VCALENDAR