BEGIN:VCALENDAR
VERSION:2.0
PRODID:-//*** U3A Moraira-Teulada *** - ECPv6.15.20//NONSGML v1.0//EN
CALSCALE:GREGORIAN
METHOD:PUBLISH
X-WR-CALNAME:*** U3A Moraira-Teulada ***
X-ORIGINAL-URL:https://local.u3amoraira-teulada.org
X-WR-CALDESC:Events for *** U3A Moraira-Teulada ***
REFRESH-INTERVAL;VALUE=DURATION:PT1H
X-Robots-Tag:noindex
X-PUBLISHED-TTL:PT1H
BEGIN:VTIMEZONE
TZID:Europe/Madrid
BEGIN:DAYLIGHT
TZOFFSETFROM:+0100
TZOFFSETTO:+0200
TZNAME:CEST
DTSTART:20240331T010000
END:DAYLIGHT
BEGIN:STANDARD
TZOFFSETFROM:+0200
TZOFFSETTO:+0100
TZNAME:CET
DTSTART:20241027T010000
END:STANDARD
BEGIN:DAYLIGHT
TZOFFSETFROM:+0100
TZOFFSETTO:+0200
TZNAME:CEST
DTSTART:20250330T010000
END:DAYLIGHT
BEGIN:STANDARD
TZOFFSETFROM:+0200
TZOFFSETTO:+0100
TZNAME:CET
DTSTART:20251026T010000
END:STANDARD
BEGIN:DAYLIGHT
TZOFFSETFROM:+0100
TZOFFSETTO:+0200
TZNAME:CEST
DTSTART:20260329T010000
END:DAYLIGHT
BEGIN:STANDARD
TZOFFSETFROM:+0200
TZOFFSETTO:+0100
TZNAME:CET
DTSTART:20261025T010000
END:STANDARD
END:VTIMEZONE
BEGIN:VEVENT
DTSTART;TZID=Europe/Madrid:20250417T100000
DTEND;TZID=Europe/Madrid:20250417T110000
DTSTAMP:20260420T233134
CREATED:20240105T120717Z
LAST-MODIFIED:20250102T165441Z
UID:36422-1744884000-1744887600@local.u3amoraira-teulada.org
SUMMARY:JAVEA - Cansaladas Las Laderas urb. and woods -2 (Thu)
DESCRIPTION:Walk leaders: Jacqui & Andy \n\n\n\nMeeting PointCami Lago Como of cami de les Cansaladas CV-747 before El Campo Restaurant\,left in Cami Lago Como near Mailboxes of Las Laderas urb. GPS: 38°45’00.4″N 0°10’08.3″E Use View Venue Website below for precise location.Walking RouteDistance : 5 kmThrough Las Laderas urbanisation into the woods and around the rear of the Jávea Golf club.TerrainWalking SurfaceSome roads but mostly good tracks and pathsAscentMostly flat but starts with a fairly steep climb through the urbanisation. (Ascent 105m).Directions to Meeting PointFrom Moraira: Drive through Benitachell towards Javea. Pass the football field on the right and take the first road to the right CV-747 towards Javea arenal. Pass the roundabout\, go straight and follow the road until it bends to the right. At this point turn left into Lago Como. do not take the road immediately alongside the restaurant. Parking near the mailboxes..From Jávea: At Barclays Bank\, take the road towards Benitachell up the hill. 600 metres after passing the Inn on the Green bowls club\, the road bends left at the old El Campo restaurant. There are two roads on the right hand side as the road bends left. Take the second of these two roads; do not take the road immediately alongside the restaurant. Parking near the mailboxes.
URL:https://local.u3amoraira-teulada.org/event/javea-cansaladas-las-laderas-urb-and-woods-2-thu/
LOCATION:Lago Como\, 7-1\, JAVEA – Cansaladas\, C. Lago Como\, 7-1\, 03739 Xàbia\, Alicante\, 03739\, Spain
CATEGORIES:Healthy Walking
ATTACH;FMTTYPE=image/jpeg:https://local.u3amoraira-teulada.org/wp-content/uploads/cansaladas-las-laderas-urb-and-woods2.jpg
END:VEVENT
END:VCALENDAR