BEGIN:VCALENDAR
VERSION:2.0
PRODID:-//*** U3A Moraira-Teulada *** - ECPv6.15.20//NONSGML v1.0//EN
CALSCALE:GREGORIAN
METHOD:PUBLISH
X-WR-CALNAME:*** U3A Moraira-Teulada ***
X-ORIGINAL-URL:https://local.u3amoraira-teulada.org
X-WR-CALDESC:Events for *** U3A Moraira-Teulada ***
REFRESH-INTERVAL;VALUE=DURATION:PT1H
X-Robots-Tag:noindex
X-PUBLISHED-TTL:PT1H
BEGIN:VTIMEZONE
TZID:Europe/Madrid
BEGIN:DAYLIGHT
TZOFFSETFROM:+0100
TZOFFSETTO:+0200
TZNAME:CEST
DTSTART:20240331T010000
END:DAYLIGHT
BEGIN:STANDARD
TZOFFSETFROM:+0200
TZOFFSETTO:+0100
TZNAME:CET
DTSTART:20241027T010000
END:STANDARD
BEGIN:DAYLIGHT
TZOFFSETFROM:+0100
TZOFFSETTO:+0200
TZNAME:CEST
DTSTART:20250330T010000
END:DAYLIGHT
BEGIN:STANDARD
TZOFFSETFROM:+0200
TZOFFSETTO:+0100
TZNAME:CET
DTSTART:20251026T010000
END:STANDARD
BEGIN:DAYLIGHT
TZOFFSETFROM:+0100
TZOFFSETTO:+0200
TZNAME:CEST
DTSTART:20260329T010000
END:DAYLIGHT
BEGIN:STANDARD
TZOFFSETFROM:+0200
TZOFFSETTO:+0100
TZNAME:CET
DTSTART:20261025T010000
END:STANDARD
END:VTIMEZONE
BEGIN:VEVENT
DTSTART;TZID=Europe/Madrid:20250408T100000
DTEND;TZID=Europe/Madrid:20250408T110000
DTSTAMP:20260421T005840
CREATED:20240105T120409Z
LAST-MODIFIED:20250102T155949Z
UID:36283-1744106400-1744110000@local.u3amoraira-teulada.org
SUMMARY:GATA – Colegio to Nature reserve
DESCRIPTION:Walk leaders: Mike & Valerie \n\n\n\nMeeting PointAt end of carrer San Josep(calle san jose) turn left\, Car park in Via Pista next to Colegio.GPS: 38.770584 N\, 0.082254 E Use View Venue Website below for precise location.Walking RouteDistance : 5 kmWalk though the nature reserve behind the Colegio and before the AP7\, passing the aeroclub of model airplanes.TerrainWalking SurfaceMostly good tarmac roads\, some dirt/gravel and rocky tracks.Ascent1km ascent\, 2 short steep ascents and 1 km descentDirections toMeeting PointFrom Moraira:Drive through Teulada and take the N332 to Gata. When reaching Gata\, after the sharp S-bend \, take the next road to the left\, carrer sant Josep\, over the bridge of the river. Drive the road to the end until the T-junction with Via Pista. Turn left.50m up the road there is a gravelled parking area to the right (the school is on the left).Park here.
URL:https://local.u3amoraira-teulada.org/event/gata-colegio-to-nature-reserve/
LOCATION:Gata colegio\, Polígono Esp.Abiertos-Río-\, 691\, 03740 Gata de Gorgos\, Alicante\, 03740\, Spain
CATEGORIES:Healthy Walking
ATTACH;FMTTYPE=image/jpeg:https://local.u3amoraira-teulada.org/wp-content/uploads/Walking-Gata-1-scaled.jpg
END:VEVENT
END:VCALENDAR