BEGIN:VCALENDAR
VERSION:2.0
PRODID:-//*** U3A Moraira-Teulada *** - ECPv6.15.20//NONSGML v1.0//EN
CALSCALE:GREGORIAN
METHOD:PUBLISH
X-WR-CALNAME:*** U3A Moraira-Teulada ***
X-ORIGINAL-URL:https://local.u3amoraira-teulada.org
X-WR-CALDESC:Events for *** U3A Moraira-Teulada ***
REFRESH-INTERVAL;VALUE=DURATION:PT1H
X-Robots-Tag:noindex
X-PUBLISHED-TTL:PT1H
BEGIN:VTIMEZONE
TZID:Europe/Madrid
BEGIN:DAYLIGHT
TZOFFSETFROM:+0100
TZOFFSETTO:+0200
TZNAME:CEST
DTSTART:20240331T010000
END:DAYLIGHT
BEGIN:STANDARD
TZOFFSETFROM:+0200
TZOFFSETTO:+0100
TZNAME:CET
DTSTART:20241027T010000
END:STANDARD
BEGIN:DAYLIGHT
TZOFFSETFROM:+0100
TZOFFSETTO:+0200
TZNAME:CEST
DTSTART:20250330T010000
END:DAYLIGHT
BEGIN:STANDARD
TZOFFSETFROM:+0200
TZOFFSETTO:+0100
TZNAME:CET
DTSTART:20251026T010000
END:STANDARD
BEGIN:DAYLIGHT
TZOFFSETFROM:+0100
TZOFFSETTO:+0200
TZNAME:CEST
DTSTART:20260329T010000
END:DAYLIGHT
BEGIN:STANDARD
TZOFFSETFROM:+0200
TZOFFSETTO:+0100
TZNAME:CET
DTSTART:20261025T010000
END:STANDARD
END:VTIMEZONE
BEGIN:VEVENT
DTSTART;TZID=Europe/Madrid:20250304T100000
DTEND;TZID=Europe/Madrid:20250304T114500
DTSTAMP:20260420T221134
CREATED:20240105T110833Z
LAST-MODIFIED:20250303T201143Z
UID:36267-1741082400-1741088700@local.u3amoraira-teulada.org
SUMMARY:BENITACHELL - Les Fonts to Teulada Quarry
DESCRIPTION:Walk leaders: Jacqui & Andy \n\n\n\nMeeting PointThe centre of Les Fonts Urbanisation. GPS 38.742109 N\, 0.134826 E Use View Venue Website below for precise location.Walking RouteDistance : 6\,8 kmCamis and paths from Les Fonts to quaryTerrainWalking SurfaceMostly tarmac roads\, one gravel track. Spendid viewsAscent3km uphill – 200m ascent\, Steep hill to the Quary of 500mDirections to Meeting PointFrom Moraira: Drive to Benitachell on the Moraira- Benitachell road. At the traffic lights go Left and drive to the next junction to the right. Turn sharp right here into avenida Alicante. This road starts to narrow after 50m and you need to turn left after approx. 250m\, the next road on the left turn left. Go straight on into l’Abiar (signed to Les Fonts Urbanisation);From Benitachell church: Follow the road past the cemetery on the right and behind the back of the church on the left. At the first crossroads\, with the police station on your right\, turn right into l’Abiar (signed to Les Fonts Urbanisation);Both:Down the winding hill and past the Windmill and take the first road on the right (Lluca). Follow Lluca\, ignoring all turnings\, and go up into Les Fonts urb. keep to main road and after approx. 1.5km you will reach a parking area adjacent to the local mail boxes and dustbins.From Jávea: On the Jávea-Benitachell CV740\, turn right at the stone cross. Ignore all side turnings on this road\, go past the bins on your right\, and head towards Les Fonts. Just after entering the urbanisation the parking area will come into view which is adjacent to the local mail boxes and dustbins.
URL:https://local.u3amoraira-teulada.org/event/benitachell-les-fonts-to-teulada-quary/
LOCATION:Centre of Les Fonts Urbanisation\, Urbanització les Fonts\, 03726 les Fonts\, Alacant\, 03726\, Spain
CATEGORIES:Healthy Walking
ATTACH;FMTTYPE=image/png:https://local.u3amoraira-teulada.org/wp-content/uploads/CANCELLED-1.png
END:VEVENT
END:VCALENDAR