BEGIN:VCALENDAR
VERSION:2.0
PRODID:-//*** U3A Moraira-Teulada *** - ECPv6.15.20//NONSGML v1.0//EN
CALSCALE:GREGORIAN
METHOD:PUBLISH
X-ORIGINAL-URL:https://local.u3amoraira-teulada.org
X-WR-CALDESC:Events for *** U3A Moraira-Teulada ***
REFRESH-INTERVAL;VALUE=DURATION:PT1H
X-Robots-Tag:noindex
X-PUBLISHED-TTL:PT1H
BEGIN:VTIMEZONE
TZID:Europe/Madrid
BEGIN:DAYLIGHT
TZOFFSETFROM:+0100
TZOFFSETTO:+0200
TZNAME:CEST
DTSTART:20240331T010000
END:DAYLIGHT
BEGIN:STANDARD
TZOFFSETFROM:+0200
TZOFFSETTO:+0100
TZNAME:CET
DTSTART:20241027T010000
END:STANDARD
BEGIN:DAYLIGHT
TZOFFSETFROM:+0100
TZOFFSETTO:+0200
TZNAME:CEST
DTSTART:20250330T010000
END:DAYLIGHT
BEGIN:STANDARD
TZOFFSETFROM:+0200
TZOFFSETTO:+0100
TZNAME:CET
DTSTART:20251026T010000
END:STANDARD
BEGIN:DAYLIGHT
TZOFFSETFROM:+0100
TZOFFSETTO:+0200
TZNAME:CEST
DTSTART:20260329T010000
END:DAYLIGHT
BEGIN:STANDARD
TZOFFSETFROM:+0200
TZOFFSETTO:+0100
TZNAME:CET
DTSTART:20261025T010000
END:STANDARD
END:VTIMEZONE
BEGIN:VEVENT
DTSTART;TZID=Europe/Madrid:20250211T100000
DTEND;TZID=Europe/Madrid:20250211T110000
DTSTAMP:20260420T195255
CREATED:20240105T105655Z
LAST-MODIFIED:20250109T172809Z
UID:36261-1739268000-1739271600@local.u3amoraira-teulada.org
SUMMARY:BENISSA – Cemetery SENIJA COUNTRY LANES
DESCRIPTION:Walk leaders: Mike & Valerie \n\n\n\nMeeting PointCarpark in front of the Benissa cemetery close to the A7 entrance gate.GPS: 38.730466 N\, 0.055388 E Use View Venue Website below for precise location.Walking RouteDistance: 4 kmAround the country lanes between Benissa and Senija\, through orchards of olives \, Almonds\, oranges and vineyards.TerrainWalking surfaceMostly well made surfaces (tarmac) road\, through the fields.Ascent30m ascent over 2kmDirections to Meeting PointComing from Teulada\, take the N332 towards Benissa. About 1km after the Benissa (Pedrera) trading estate take the slip road signposted for Benissa (Nort) and AP7. When you reach the roundabout take the first (almost immediate) exit for the cementeri.THE ROADWORKS IN THE FOLLOWING AREA ARE NOT COMPLETE SO THE DIRECTIONS MAY CHANGE:After about 200m turn left (signposted cementeri). Follow this road and turn left just after the communal bins area.Continue along this road until the next junction (with a traffic island)\, turn right and follow the signs to the cementeri\, turning right into the road “Assagador de Canor”. Park at the cementeri car park.
URL:https://local.u3amoraira-teulada.org/event/benissa-cemetary-senija-country-lanes/
LOCATION:Carpark in front of the Benissa cemetery\, Partida Canor\, 24\, 03720\, Alacant\, 03720
CATEGORIES:Healthy Walking
ATTACH;FMTTYPE=image/jpeg:https://local.u3amoraira-teulada.org/wp-content/uploads/Walking-senija-walk.jpg
END:VEVENT
END:VCALENDAR