BEGIN:VCALENDAR
VERSION:2.0
PRODID:-//*** U3A Moraira-Teulada *** - ECPv6.15.20//NONSGML v1.0//EN
CALSCALE:GREGORIAN
METHOD:PUBLISH
X-ORIGINAL-URL:https://local.u3amoraira-teulada.org
X-WR-CALDESC:Events for *** U3A Moraira-Teulada ***
REFRESH-INTERVAL;VALUE=DURATION:PT1H
X-Robots-Tag:noindex
X-PUBLISHED-TTL:PT1H
BEGIN:VTIMEZONE
TZID:Europe/Madrid
BEGIN:DAYLIGHT
TZOFFSETFROM:+0100
TZOFFSETTO:+0200
TZNAME:CEST
DTSTART:20230326T010000
END:DAYLIGHT
BEGIN:STANDARD
TZOFFSETFROM:+0200
TZOFFSETTO:+0100
TZNAME:CET
DTSTART:20231029T010000
END:STANDARD
BEGIN:DAYLIGHT
TZOFFSETFROM:+0100
TZOFFSETTO:+0200
TZNAME:CEST
DTSTART:20240331T010000
END:DAYLIGHT
BEGIN:STANDARD
TZOFFSETFROM:+0200
TZOFFSETTO:+0100
TZNAME:CET
DTSTART:20241027T010000
END:STANDARD
BEGIN:DAYLIGHT
TZOFFSETFROM:+0100
TZOFFSETTO:+0200
TZNAME:CEST
DTSTART:20250330T010000
END:DAYLIGHT
BEGIN:STANDARD
TZOFFSETFROM:+0200
TZOFFSETTO:+0100
TZNAME:CET
DTSTART:20251026T010000
END:STANDARD
END:VTIMEZONE
BEGIN:VEVENT
DTSTART;TZID=Europe/Madrid:20240930T090000
DTEND;TZID=Europe/Madrid:20240930T100000
DTSTAMP:20260420T122811
CREATED:20240105T114618Z
LAST-MODIFIED:20250615T085716Z
UID:36271-1727686800-1727690400@local.u3amoraira-teulada.org
SUMMARY:TEULADA – Around Railway – N332 – Canor (Tue)
DESCRIPTION:Walk leaders: Alex & Elaine \n\n\n\nMeeting PointTeulada Poligono car park. GPS: 38°43’42.4″N 0°05’37.3″E Use View Venue Website below for precise location.Walking RouteDistance : 4\,85 kmCamis and paths north and east of the N332.TerrainWalking SurfaceMostly tarmac roads. Small section of dirt/gravel path. Route crosses the N332 twice and the railway once.AscentMedium hill out of Teulada. Mostly flat.Directions to Meeting PointFrom Teulada-Moraira:Drive to the bottom of the main dual carriageway. Turn 1st right at first roundabouts and go past  the railway station and drive up the calle Tenerife till the football stadium. Park behind the football stadium at the cemetery carpark.From Gata/Benissa:Take N332 until you reach the roundabout outside Teulada. Turn to Teulada and at the next roundabout\, cross the roundabout to the next. Go round the roundabout\, pass avenida Mediterraneo\, and turn into the road for the railway station. Go past the railway station and drive up the calle Tenerife till the football stadium. Park behind the football stadium at the cemetery carpark.From Gata: Take N322 until you reach the roundabout outside Teulada. Turn left and right into  the car park. Park near Bar Poligono. From Teulada: Drive to the bottom of Teulada\, go under railway line and at next roundabout  turn left and park in the large car park\, near Bar Poligono.
URL:https://local.u3amoraira-teulada.org/event/teulada-around-railway-n332-canor/
LOCATION:Teulada Poligono car park\, Moraira\, 03725\, Alicante\, 03725\, Spain
CATEGORIES:Healthy Walking
ATTACH;FMTTYPE=image/jpeg:https://local.u3amoraira-teulada.org/wp-content/uploads/TEULADA-–-Camis-of-Canor-3.jpg
END:VEVENT
END:VCALENDAR