BEGIN:VCALENDAR
VERSION:2.0
PRODID:-//*** U3A Moraira-Teulada *** - ECPv6.15.20//NONSGML v1.0//EN
CALSCALE:GREGORIAN
METHOD:PUBLISH
X-WR-CALNAME:*** U3A Moraira-Teulada ***
X-ORIGINAL-URL:https://local.u3amoraira-teulada.org
X-WR-CALDESC:Events for *** U3A Moraira-Teulada ***
REFRESH-INTERVAL;VALUE=DURATION:PT1H
X-Robots-Tag:noindex
X-PUBLISHED-TTL:PT1H
BEGIN:VTIMEZONE
TZID:Europe/Madrid
BEGIN:DAYLIGHT
TZOFFSETFROM:+0100
TZOFFSETTO:+0200
TZNAME:CEST
DTSTART:20230326T010000
END:DAYLIGHT
BEGIN:STANDARD
TZOFFSETFROM:+0200
TZOFFSETTO:+0100
TZNAME:CET
DTSTART:20231029T010000
END:STANDARD
BEGIN:DAYLIGHT
TZOFFSETFROM:+0100
TZOFFSETTO:+0200
TZNAME:CEST
DTSTART:20240331T010000
END:DAYLIGHT
BEGIN:STANDARD
TZOFFSETFROM:+0200
TZOFFSETTO:+0100
TZNAME:CET
DTSTART:20241027T010000
END:STANDARD
BEGIN:DAYLIGHT
TZOFFSETFROM:+0100
TZOFFSETTO:+0200
TZNAME:CEST
DTSTART:20250330T010000
END:DAYLIGHT
BEGIN:STANDARD
TZOFFSETFROM:+0200
TZOFFSETTO:+0100
TZNAME:CET
DTSTART:20251026T010000
END:STANDARD
END:VTIMEZONE
BEGIN:VEVENT
DTSTART;TZID=Europe/Madrid:20240927T140000
DTEND;TZID=Europe/Madrid:20240927T160000
DTSTAMP:20260420T122749
CREATED:20240918T133206Z
LAST-MODIFIED:20240918T133601Z
UID:38262-1727445600-1727452800@local.u3amoraira-teulada.org
SUMMARY:Genealogy group starts up again
DESCRIPTION:The Genealogy Group will begin again on Friday 27th September at 2pm. If you are interested in joining the group please contact the Group Leader through the website BEFORE 11am on that Friday.  \n\n\n\ncontact Noelene Cummins: genealogy@u3amoraira-teulada.org
URL:https://local.u3amoraira-teulada.org/event/genealogy-group-starts-up-again/
LOCATION:Alicante
CATEGORIES:Genealogy
ATTACH;FMTTYPE=image/jpeg:https://local.u3amoraira-teulada.org/wp-content/uploads/genealogy-picture.jpg
END:VEVENT
END:VCALENDAR